BEGIN:VCALENDAR
VERSION:2.0
PRODID:-//Coral Gables Magazine - ECPv6.15.20//NONSGML v1.0//EN
CALSCALE:GREGORIAN
METHOD:PUBLISH
X-WR-CALNAME:Coral Gables Magazine
X-ORIGINAL-URL:https://coralgablesmagazine.com
X-WR-CALDESC:Events for Coral Gables Magazine
REFRESH-INTERVAL;VALUE=DURATION:PT1H
X-Robots-Tag:noindex
X-PUBLISHED-TTL:PT1H
BEGIN:VTIMEZONE
TZID:America/Halifax
BEGIN:DAYLIGHT
TZOFFSETFROM:-0400
TZOFFSETTO:-0300
TZNAME:ADT
DTSTART:20250309T060000
END:DAYLIGHT
BEGIN:STANDARD
TZOFFSETFROM:-0300
TZOFFSETTO:-0400
TZNAME:AST
DTSTART:20251102T050000
END:STANDARD
BEGIN:DAYLIGHT
TZOFFSETFROM:-0400
TZOFFSETTO:-0300
TZNAME:ADT
DTSTART:20260308T060000
END:DAYLIGHT
BEGIN:STANDARD
TZOFFSETFROM:-0300
TZOFFSETTO:-0400
TZNAME:AST
DTSTART:20261101T050000
END:STANDARD
BEGIN:DAYLIGHT
TZOFFSETFROM:-0400
TZOFFSETTO:-0300
TZNAME:ADT
DTSTART:20270314T060000
END:DAYLIGHT
BEGIN:STANDARD
TZOFFSETFROM:-0300
TZOFFSETTO:-0400
TZNAME:AST
DTSTART:20271107T050000
END:STANDARD
END:VTIMEZONE
BEGIN:VEVENT
DTSTART;TZID=America/Halifax:20260425T200000
DTEND;TZID=America/Halifax:20260425T200000
DTSTAMP:20260421T161134
CREATED:20260421T152938Z
LAST-MODIFIED:20260421T152940Z
UID:81617-1777147200-1777147200@coralgablesmagazine.com
SUMMARY:Kill Bill: The Whole Bloody Affair
DESCRIPTION:Kill Bill: The Whole Bloody Affair brings Quentin Tarantino’s definitive revenge saga to the screen in its complete\, rarely screened form. Uma Thurman stars as The Bride\, left for dead after her former boss and lover Bill ambushes her wedding rehearsal\, shooting her in the head and stealing her unborn child. What follows is a relentless hunt through the four remaining members of the Deadly Viper Assassination Squad before a final reckoning with Bill himself. Presented with a classic intermission\, this is the full\, uncut experience of one of cinema’s most stylish and visceral revenge stories.
URL:https://coralgablesmagazine.com/event/kill-bill-the-whole-bloody-affair/
LOCATION:Coral Gables Art Cinema\, 260 Aragon Ave.
CATEGORIES:Film
ATTACH;FMTTYPE=image/jpeg:https://coralgablesmagazine.com/wp-content/uploads/2026/04/Kill-Bill-The-Whole-Bloody-Affair-poster00001.jpg
END:VEVENT
BEGIN:VEVENT
DTSTART;TZID=America/Halifax:20260425T200000
DTEND;TZID=America/Halifax:20260426T020000
DTSTAMP:20260421T161134
CREATED:20260421T154203Z
LAST-MODIFIED:20260421T154205Z
UID:81626-1777147200-1777168800@coralgablesmagazine.com
SUMMARY:Salon for Singles by Thursday™️
DESCRIPTION:For the first time\, Thursday takes over The Salon at The Burrow\, a hidden members club tucked behind an unassuming entrance on Miracle Mile\, for an exclusive 30+ singles night. Only 50 guests will receive the secret key granting entry to an evening designed around genuine connection. Inside\, vinyl jazz sets the tone\, a poker table invites the bold\, and a vintage salon atmosphere does the rest. One complimentary drink is included with your ticket. The Burrow revives the tradition of the cultural salon\, those intimate gatherings where artists\, thinkers\, and patrons came together around music\, ideas\, and conversation. Tonight\, it closes its doors exclusively for Thursday singles age 30 and up.
URL:https://coralgablesmagazine.com/event/salon-for-singles-by-thursday%ef%b8%8f/
LOCATION:The Burrow\, 94 Miracle Mile\, Florida\, 33134\, United States
CATEGORIES:Events
ATTACH;FMTTYPE=image/avif:https://coralgablesmagazine.com/wp-content/uploads/2026/04/W1siZiIsInB1YmxpYy8yMDI2LzMvMTMvMjAvNTgvMjIvNTE0L1JhY2tNdWx0aXBhcnQyMDI2MDMxMy01OS1pM21hcXAuanBnIl1d.avif
END:VEVENT
BEGIN:VEVENT
DTSTART;TZID=America/Halifax:20260426T110000
DTEND;TZID=America/Halifax:20260426T110000
DTSTAMP:20260421T161134
CREATED:20260421T153246Z
LAST-MODIFIED:20260421T153247Z
UID:81622-1777201200-1777201200@coralgablesmagazine.com
SUMMARY:Reds
DESCRIPTION:Selected by Mitchell Kaplan\, Reds arrives in a brand new 4K restoration for a landmark screening of Warren Beatty’s sweeping historical epic. The film follows the volatile romance between activist journalists Louise Bryant and John Reed\, set against the upheaval of the early twentieth century. From the outbreak of WWI to Louise’s assignment in France\, through Reed’s radicalization in Russia and his disillusionment with the Soviet propaganda machine\, the film moves between intimate personal drama and world-altering historical forces. Beatty’s ambitious blend of dramatic narrative and interviews with the era’s major social radicals remains one of American cinema’s most singular achievements.
URL:https://coralgablesmagazine.com/event/reds/
LOCATION:Coral Gables Art Cinema\, 260 Aragon Ave.
CATEGORIES:Film
ATTACH;FMTTYPE=image/jpeg:https://coralgablesmagazine.com/wp-content/uploads/2026/04/reds-poster-1.jpg
END:VEVENT
BEGIN:VEVENT
DTSTART;TZID=America/Halifax:20260426T160000
DTEND;TZID=America/Halifax:20260426T160000
DTSTAMP:20260421T161134
CREATED:20260421T152435Z
LAST-MODIFIED:20260421T152437Z
UID:81614-1777219200-1777219200@coralgablesmagazine.com
SUMMARY:Grow | Frost Symphonic Winds
DESCRIPTION:“Grow” brings the Frost Wind Ensemble’s season to a close with a program that spans continents and cultures\, united by themes of resilience\, transformation\, and the enduring human spirit. The evening opens with Guido López-Gavilán’s Obertura Bandida\, bursting with Cuban rhythmic vitality and joyous defiance. Viet Cuong’s Deciduous follows\, mirroring nature’s cycles of release and renewal. Gustav Holst’s Second Suite in F grounds the program in timeless English folk melodies before Alberto Ginastera’s Danza Final from Estancia ignites the finale with explosive South American rhythm and motion.
URL:https://coralgablesmagazine.com/event/grow-frost-symphonic-winds/
LOCATION:UM Gusman Concert Hall\, 1314 Miller Drive
CATEGORIES:Music
ATTACH;FMTTYPE=image/jpeg:https://coralgablesmagazine.com/wp-content/uploads/2026/04/af98f07f6c5c785ffe479937a503f82b2263509d.jpg
END:VEVENT
BEGIN:VEVENT
DTSTART;TZID=America/Halifax:20260427T140000
DTEND;TZID=America/Halifax:20260427T150000
DTSTAMP:20260421T161134
CREATED:20260406T193753Z
LAST-MODIFIED:20260406T193754Z
UID:81111-1777298400-1777302000@coralgablesmagazine.com
SUMMARY:Kislak Fellows in Review: Presented by Carolina Cueva
DESCRIPTION:Carolina Cueva\, research fellow of the Jay I. Kislak Collection\, presents findings from her month-long residency engaging with the collection at the University Libraries. The online presentation is moderated by Jay I. Kislak Chair and Curator Daniel Arbino. \n\n\n\nCueva’s research applies an interdisciplinary approach to Andean history\, displacement\, and identity. During her residency she worked directly with materials from the Kislak Collection\, using them to deepen and inform her ongoing artistic research. In this presentation she will share new insights from that process and speak to how the collection shaped her work. \n\n\n\nThe presentation will be followed by a live Q&A with the online audience.
URL:https://coralgablesmagazine.com/event/kislak-fellows-in-review-presented-by-carolina-cueva/
LOCATION:Online Event
CATEGORIES:Events
ATTACH;FMTTYPE=image/webp:https://coralgablesmagazine.com/wp-content/uploads/2026/04/image-1.webp
END:VEVENT
BEGIN:VEVENT
DTSTART;TZID=America/Halifax:20260427T173000
DTEND;TZID=America/Halifax:20260427T173000
DTSTAMP:20260421T161134
CREATED:20260421T150941Z
LAST-MODIFIED:20260421T150942Z
UID:81604-1777311000-1777311000@coralgablesmagazine.com
SUMMARY:GGG Town Hall withCommissioner Richard Lara
DESCRIPTION:The GGG Town Hall with Commissioner Richard Lara takes place at Coral Gables Congregational Church Fellowship Hall\, 3010 De Soto Blvd. The evening opens with refreshments from 5:30 to 6:00 pm\, followed by a program and Q&A session from 6:00 to 7:00 pm. Attendees are invited to exchange ideas with Commissioner Lara on referendum election results and pressing issues facing the Coral Gables community. Parking is available in the lot in front of the church and on the street along the Columbus Blvd side. This event is for GGG members only. Registration is required by April 24. To register\, complete the form\, email gablesgoodgov@gmail.com\, or call GGG President Susi Davis at (305) 582-5827.
URL:https://coralgablesmagazine.com/event/ggg-town-hall-withcommissioner-richard-lara/
LOCATION:Coral Gables Congregational Church\, 3010 De Soto Blvd.
CATEGORIES:Events
ATTACH;FMTTYPE=image/jpeg:https://coralgablesmagazine.com/wp-content/uploads/2026/04/0-2.jpg
END:VEVENT
BEGIN:VEVENT
DTSTART;TZID=America/Halifax:20260429T180000
DTEND;TZID=America/Halifax:20260429T203000
DTSTAMP:20260421T161134
CREATED:20260421T151457Z
LAST-MODIFIED:20260421T151458Z
UID:81608-1777485600-1777494600@coralgablesmagazine.com
SUMMARY:Autentico: The Italian Food & Wine Festival 2026 - Food Lovers
DESCRIPTION:Autentico: The Italian Food & Wine Festival brings an evening of genuine Italian food and wine to Coral Gables\, with one ticket unlocking unlimited bites and wine pours until supplies last. From 6:00 to 8:30 pm\, guests enjoy a Grand Tasting featuring authentic Italian pasta\, cheese\, cold cuts\, pizza\, and gelato\, alongside live music and the chance to connect with the Italian restaurants\, bakeries\, and gelato shops behind the spread. The festival is the only high-end Italian food and wine event in Miami\, dedicated to deepening appreciation for Italian culinary culture through its most delicious traditions. IACCSE members receive a special discount with promo code at registration. This is a 21+ event.
URL:https://coralgablesmagazine.com/event/autentico-the-italian-food-wine-festival-2026-food-lovers/
LOCATION:Coral Gables Country Club\, 997 North Greenway Drive\, Coral Gables
CATEGORIES:Food
ATTACH;FMTTYPE=image/webp:https://coralgablesmagazine.com/wp-content/uploads/2026/04/image-2-1.webp
END:VEVENT
BEGIN:VEVENT
DTSTART;TZID=America/Halifax:20260501T110000
DTEND;TZID=America/Halifax:20260501T140000
DTSTAMP:20260421T161134
CREATED:20260220T211945Z
LAST-MODIFIED:20260220T211947Z
UID:79887-1777633200-1777644000@coralgablesmagazine.com
SUMMARY:Twelve Good Men Luncheon Supports Ronald McDonald House Charities of South Florida
DESCRIPTION:The annual Twelve Good Men Luncheon is one of the organization’s primary fundraising events. The luncheon recognizes men in the community for leadership and service\, while raising funds to support daily operations and family services. Proceeds help fund overnight accommodations\, meals\, and on-site support programs for families staying at the House. \n\n\n\nFunds raised through the event also contribute to the continued expansion of services as the new House approaches completion. \n\n\n\nSponsorship opportunities are available\, with proceeds directly supporting Ronald McDonald House Charities of South Florida and its mission to keep families close during a child’s medical treatment. \n\n\n\nFor more information on sponsorship or attendance\, visit rmhcsouthflorida.org.
URL:https://coralgablesmagazine.com/event/twelve-good-men-luncheon-supports-ronald-mcdonald-house-charities-of-south-florida/
LOCATION:Loews Coral Gables Hotel\, 2950 Coconut Grove Hotel
ATTACH;FMTTYPE=image/png:https://coralgablesmagazine.com/wp-content/uploads/2026/02/web-cover-1.png
END:VEVENT
BEGIN:VEVENT
DTSTART;TZID=America/Halifax:20260503T120000
DTEND;TZID=America/Halifax:20260503T120000
DTSTAMP:20260421T161134
CREATED:20260313T161737Z
LAST-MODIFIED:20260313T161738Z
UID:80436-1777809600-1777809600@coralgablesmagazine.com
SUMMARY:Shakespeare in Love
DESCRIPTION:A screening of “Shakespeare in Love” tells the story of a young William Shakespeare struggling with writer’s block as he attempts to complete a new play. While developing a comedy titled Romeo and Ethel\, the Pirate’s Daughter\, he meets Lady Viola\, whose presence inspires both his writing and the story that would eventually become Romeo and Juliet. The film follows the challenges of theatre production\, creative pressure\, and personal relationships during Shakespeare’s early career.
URL:https://coralgablesmagazine.com/event/shakespeare-in-love/
LOCATION:Coral Gables Art Cinema\, 260 Aragon Ave.
CATEGORIES:Film
ATTACH;FMTTYPE=image/jpeg:https://coralgablesmagazine.com/wp-content/uploads/2026/03/shakespeare-in-love-poster-1.jpg
END:VEVENT
BEGIN:VEVENT
DTSTART;TZID=America/Halifax:20260516T120000
DTEND;TZID=America/Halifax:20260516T120000
DTSTAMP:20260421T161134
CREATED:20260415T153058Z
LAST-MODIFIED:20260415T153100Z
UID:81391-1778932800-1778932800@coralgablesmagazine.com
SUMMARY:The 3rd Annual Little Jam Fest by Jam with Jamie
DESCRIPTION:Little Jam Fest returns for its third year at the University of Miami\, bringing together more than 1\,000 South Florida families for a day centered on music\, creativity\, and community. Created by Miami-based children’s music company Jam with Jamie\, the festival is designed primarily for young children\, especially ages 0 to 8\, while remaining accessible for the entire family. \n\n\n\nThe event features a full lineup of live performances throughout the day\, including PJ Kids\, Hip Hop Kidz\, Sounds Sweet Entertainment\, and appearances from emerging artists selected through the Uplifting Young Voices program. Additional musical moments include interactive sessions led by Jam with Jamie\, Little Beats Miami\, Mr. J Jams\, and Josefina & JC\, offering hands-on experiences such as drumming\, dancing\, and karaoke. \n\n\n\nBeyond the stage\, families can explore a range of activity zones hosted by local organizations and family-focused brands. These include creative and sensory-friendly experiences\, along with opportunities to engage directly with businesses such as Miami Children’s Museum\, Tonies\, Brickz4Kids\, and more. Character meet-and-greets will also take place throughout the day\, featuring familiar favorites like Ariel\, Sebastian the Ibis\, and additional appearances. \n\n\n\nFood and beverage options will be available on site\, with vendors including Maman\, Bruna Rossa Pizza\, Bolay\, and a selection of local dessert concepts. \n\n\n\nWith a mix of structured performances and open-ended play\, Little Jam Fest offers a well-rounded environment for families to spend the day\, discover new activities\, and connect with the local community through music and shared experiences.
URL:https://coralgablesmagazine.com/event/the-3rd-annual-little-jam-fest-by-jam-with-jamie/
LOCATION:University of Miami Student Center Complex\, 1330 Miller Dr\, Coral Gables\, Florida\, 33146\, United States
CATEGORIES:Events,Music
ATTACH;FMTTYPE=image/webp:https://coralgablesmagazine.com/wp-content/uploads/2026/04/Square-Invite-Button-1024x1024-1.webp
END:VEVENT
BEGIN:VEVENT
DTSTART;TZID=America/Halifax:20260519T100000
DTEND;TZID=America/Halifax:20260519T130000
DTSTAMP:20260421T161134
CREATED:20260413T153721Z
LAST-MODIFIED:20260413T153723Z
UID:81322-1779184800-1779195600@coralgablesmagazine.com
SUMMARY:Gables Bike Tours
DESCRIPTION:Join Elvis Fuentes\, Director of the Coral Gables Museum\, for a guided walking tour of the public art collection on the University of Miami campus. The tour begins at the Lowe Art Museum\, 1301 Stanford Drive\, and explores the many works of art displayed across the scenic grounds. \n\n\n\nGuests are encouraged to arrive by bike or Metrorail. Secure bicycle parking will be provided on site. Limited car parking is available near the Lowe Art Museum off Stanford Drive via PaybyPhone.
URL:https://coralgablesmagazine.com/event/gables-bike-tours/
LOCATION:Lowe Art Museum\, 1301 Stanford Drive\, Coral Gables\, FL\, 33146
CATEGORIES:Parks and Outdoor Activities
ATTACH;FMTTYPE=image/webp:https://coralgablesmagazine.com/wp-content/uploads/2026/04/AprilUM.jpg.webp
END:VEVENT
BEGIN:VEVENT
DTSTART;TZID=America/Halifax:20260607T120000
DTEND;TZID=America/Halifax:20260607T120000
DTSTAMP:20260421T161134
CREATED:20260313T162230Z
LAST-MODIFIED:20260313T162232Z
UID:80440-1780833600-1780833600@coralgablesmagazine.com
SUMMARY:Point Blank
DESCRIPTION:Point Blank stars Lee Marvin as Walker\, a criminal who survives being shot and left for dead on Alcatraz by his partner. After the betrayal\, Walker sets out to track down those responsible and recover the money that was taken from him. Based on the novel “The Hunter” by Donald E. Westlake\, the film follows Walker’s pursuit of revenge against the people who double crossed him. 
URL:https://coralgablesmagazine.com/event/point-blank/
LOCATION:Coral Gables Art Cinema\, 260 Aragon Ave.
CATEGORIES:Film
ATTACH;FMTTYPE=image/jpeg:https://coralgablesmagazine.com/wp-content/uploads/2026/03/point_blank_tmdb-4y8ynxdcp9kqjxd0ciumq0t3ezb.jpg
END:VEVENT
END:VCALENDAR