BEGIN:VCALENDAR
VERSION:2.0
PRODID:-//Coral Gables Magazine - ECPv6.15.20//NONSGML v1.0//EN
CALSCALE:GREGORIAN
METHOD:PUBLISH
X-WR-CALNAME:Coral Gables Magazine
X-ORIGINAL-URL:https://coralgablesmagazine.com
X-WR-CALDESC:Events for Coral Gables Magazine
REFRESH-INTERVAL;VALUE=DURATION:PT1H
X-Robots-Tag:noindex
X-PUBLISHED-TTL:PT1H
BEGIN:VTIMEZONE
TZID:America/Halifax
BEGIN:DAYLIGHT
TZOFFSETFROM:-0400
TZOFFSETTO:-0300
TZNAME:ADT
DTSTART:20240310T060000
END:DAYLIGHT
BEGIN:STANDARD
TZOFFSETFROM:-0300
TZOFFSETTO:-0400
TZNAME:AST
DTSTART:20241103T050000
END:STANDARD
BEGIN:DAYLIGHT
TZOFFSETFROM:-0400
TZOFFSETTO:-0300
TZNAME:ADT
DTSTART:20250309T060000
END:DAYLIGHT
BEGIN:STANDARD
TZOFFSETFROM:-0300
TZOFFSETTO:-0400
TZNAME:AST
DTSTART:20251102T050000
END:STANDARD
BEGIN:DAYLIGHT
TZOFFSETFROM:-0400
TZOFFSETTO:-0300
TZNAME:ADT
DTSTART:20260308T060000
END:DAYLIGHT
BEGIN:STANDARD
TZOFFSETFROM:-0300
TZOFFSETTO:-0400
TZNAME:AST
DTSTART:20261101T050000
END:STANDARD
BEGIN:DAYLIGHT
TZOFFSETFROM:-0400
TZOFFSETTO:-0300
TZNAME:ADT
DTSTART:20270314T060000
END:DAYLIGHT
BEGIN:STANDARD
TZOFFSETFROM:-0300
TZOFFSETTO:-0400
TZNAME:AST
DTSTART:20271107T050000
END:STANDARD
END:VTIMEZONE
BEGIN:VEVENT
DTSTART;TZID=America/Halifax:20260110T220000
DTEND;TZID=America/Halifax:20260110T234500
DTSTAMP:20260423T052245
CREATED:20260106T152108Z
LAST-MODIFIED:20260106T152109Z
UID:78573-1768082400-1768088700@coralgablesmagazine.com
SUMMARY:Ferris Bueller’s Day Off
DESCRIPTION:Image sourced from Coral Gables Art Cinema \n\n\n\n“Bueller…Bueller…?” Sorry\, not here! Instead\, high-schooler Ferris Bueller (Mathew Broderick)\, his girlfriend Sloane (Mia Sara)\, and his best bud Cameron (Alan Ruck) are off on the spontaneous romp through Chicago known as “Ferris Bueller’s Day Off.” So\, barf up a lung\, forge a “sick note” from the parents\, and tag along on the funniest adventure to ever sweep through the Windy City. What are you still doing here? Save Ferris!
URL:https://coralgablesmagazine.com/event/ferris-buellers-day-off/
LOCATION:Coral Gables Art Cinema\, 260 Aragon Ave.
CATEGORIES:Events,Film
ATTACH;FMTTYPE=image/jpeg:https://coralgablesmagazine.com/wp-content/uploads/2026/01/Ferris_Bueller_still_10.jpg
END:VEVENT
BEGIN:VEVENT
DTSTART;TZID=America/Halifax:20260110T203000
DTEND;TZID=America/Halifax:20260110T203000
DTSTAMP:20260423T052245
CREATED:20260106T170340Z
LAST-MODIFIED:20260106T170342Z
UID:78598-1768077000-1768077000@coralgablesmagazine.com
SUMMARY:Flamenco at La Taberna
DESCRIPTION:La Taberna Giralda brings a glimpse of Southern Spain to Coral Gables through live flamenco performances. The shows highlight the traditional footwork\, music\, and movement shaped by Moorish and Arabic influences\, offering a look into the cultural roots of the art form.
URL:https://coralgablesmagazine.com/event/flamenco-at-la-taberna-4/
LOCATION:La Taberna\, 254 Giralda Avenue
CATEGORIES:Food,Music
ATTACH;FMTTYPE=image/jpeg:https://coralgablesmagazine.com/wp-content/uploads/2026/01/flamenco-lataberna.jpg
END:VEVENT
BEGIN:VEVENT
DTSTART;TZID=America/Halifax:20260110T193000
DTEND;TZID=America/Halifax:20260110T220000
DTSTAMP:20260423T052245
CREATED:20260106T143006Z
LAST-MODIFIED:20260106T143008Z
UID:78549-1768073400-1768082400@coralgablesmagazine.com
SUMMARY:Valentin Kovalev with Yoni Levyatov
DESCRIPTION:Image sourced from Eventbrite \n\n\n\nAn exciting\, genre-defying evening with one of the world’s most exciting saxophonists. The program features works both virtuosic and lyrical\, including a showstopping arrangement of Gershwin’s “Rhapsody in Blue.”
URL:https://coralgablesmagazine.com/event/valentin-kovalev-with-yoni-levyatov/
LOCATION:Knight Center for Music Innovation\, 5513 San Amaro Drive
CATEGORIES:Events,Music
ATTACH;FMTTYPE=image/jpeg:https://coralgablesmagazine.com/wp-content/uploads/2026/01/Kovalev.jpg
END:VEVENT
BEGIN:VEVENT
DTSTART;TZID=America/Halifax:20260110T140000
DTEND;TZID=America/Halifax:20260110T160000
DTSTAMP:20260423T052245
CREATED:20251107T184912Z
LAST-MODIFIED:20251107T184913Z
UID:77347-1768053600-1768060800@coralgablesmagazine.com
SUMMARY:Georgia Tech Yellow Jackets at Miami Hurricanes' Men's Basketball
DESCRIPTION:Come watch the Miami Hurricanes’ men’s basketball team take on Georgia Tech!
URL:https://coralgablesmagazine.com/event/georgia-tech-yellow-jackets-at-miami-hurricanes-mens-basketball/
LOCATION:Watsco Center\, 1245 Dauer Drive
CATEGORIES:Events,Sports
ATTACH;FMTTYPE=image/jpeg:https://coralgablesmagazine.com/wp-content/uploads/2025/11/IMG_3198-scaled-e1762275284420.jpeg
END:VEVENT
BEGIN:VEVENT
DTSTART;TZID=America/Halifax:20260110T080000
DTEND;TZID=America/Halifax:20260110T200000
DTSTAMP:20260423T052245
CREATED:20260106T170724Z
LAST-MODIFIED:20260106T170725Z
UID:78601-1768032000-1768075200@coralgablesmagazine.com
SUMMARY:Jazz Night at The Globe
DESCRIPTION:The Globe’s beloved Saturday jazz nights are still going strong\, drawing music lovers to one of Coral Gables’ most iconic live music venues. Expect a high-energy blend of Afro-Cuban rhythms and vibrant jazz in an intimate\, old-world setting. Since 1996\, this neighborhood staple has spotlighted everything from straight-ahead jazz to reggae. No cover charge. Tables available for dinner reservations of four or more.
URL:https://coralgablesmagazine.com/event/jazz-night-at-the-globe-6/
LOCATION:The Globe\, 377 Alhambra Circle
CATEGORIES:Music
ATTACH;FMTTYPE=image/jpeg:https://coralgablesmagazine.com/wp-content/uploads/2026/01/theglobejazz-5.jpg
END:VEVENT
BEGIN:VEVENT
DTSTART;TZID=America/Halifax:20260109T180000
DTEND;TZID=America/Halifax:20260109T220000
DTSTAMP:20260423T052245
CREATED:20260106T152652Z
LAST-MODIFIED:20260108T204632Z
UID:78576-1767981600-1767996000@coralgablesmagazine.com
SUMMARY:Gallery Night
DESCRIPTION:At this monthly event\, attendees can enjoy live music and fine art while enjoying a night out in the City Beautiful. Visitors are encouraged to use the city’s trolleys or Freebee on-demand vehicles to travel between galleries. Participating galleries include the Coral Gables Museum\, the Cultural Institute of Mexico in Miami\, the H. Benitez Fine Art Gallery\, and The Americas Collection.
URL:https://coralgablesmagazine.com/event/gallery-night-5/
LOCATION:Multiple Locations\, Coral Gables
ATTACH;FMTTYPE=image/jpeg:https://coralgablesmagazine.com/wp-content/uploads/2023/11/coral-gables-museum-12-scaled-e1710894643665.jpg
END:VEVENT
BEGIN:VEVENT
DTSTART;TZID=America/Halifax:20260109T170000
DTEND;TZID=America/Halifax:20260109T170000
DTSTAMP:20260423T052245
CREATED:20260106T164635Z
LAST-MODIFIED:20260106T164636Z
UID:78590-1767978000-1767978000@coralgablesmagazine.com
SUMMARY:The Choral
DESCRIPTION:A new period drama makes its Southeastern U.S. exclusive premiere from January 9 through January 15\, with a members-only preview screening on January 8 and a red carpet opening night screening and reception on January 9. \n\n\n\nSet in 1916 during World War I\, the film centers on a choral society in Ramsden\, Yorkshire\, after most of its male members have been sent to fight on the Western Front. Determined to continue\, the group recruits local young men to rebuild its ranks and searches for a new chorus master. Their choice is Dr. Henry Guthrie\, played by Ralph Fiennes\, a demanding and reserved musician recently returned from Germany whose past raises quiet suspicions within the community. The story explores music\, resilience\, and the tension between personal history and public duty during wartime.
URL:https://coralgablesmagazine.com/event/the-choral/
LOCATION:Coral Gables Art Cinema\, 260 Aragon Ave.
CATEGORIES:Film
ATTACH;FMTTYPE=image/jpeg:https://coralgablesmagazine.com/wp-content/uploads/2026/01/the_choral_tmdb-bw7kpux4rvk8wumtpvkhcwxr3be-3.jpg
END:VEVENT
BEGIN:VEVENT
DTSTART;TZID=America/Halifax:20260109T120000
DTEND;TZID=America/Halifax:20260109T133000
DTSTAMP:20260423T052245
CREATED:20260106T164248Z
LAST-MODIFIED:20260106T164250Z
UID:78586-1767960000-1767965400@coralgablesmagazine.com
SUMMARY:Law Enforcement & Fire Fighter Appreciation Day
DESCRIPTION:The City of Coral Gables and the Coral Gables Chamber of Commerce will host a luncheon honoring the men and women who serve and protect the community \n\n\n\nTitle Sponsor | $10\,000Presenting Sponsors | $5\,000Table Hosts | $2\,500
URL:https://coralgablesmagazine.com/event/law-enforcement-fire-fighter-appreciation-day/
LOCATION:The Biltmore Hotel\, 1200 Anastasia Ave.
CATEGORIES:Parks and Outdoor Activities
ATTACH;FMTTYPE=image/jpeg:https://coralgablesmagazine.com/wp-content/uploads/2026/01/Coral-Gables-Police-and-Fire-Headquarters_1.jpg
END:VEVENT
BEGIN:VEVENT
DTSTART;TZID=America/Halifax:20260108T190000
DTEND;TZID=America/Halifax:20260108T190000
DTSTAMP:20260423T052245
CREATED:20260106T163110Z
LAST-MODIFIED:20260106T163112Z
UID:78583-1767898800-1767898800@coralgablesmagazine.com
SUMMARY:An Evening with Mark Rowlands
DESCRIPTION:Mark Rowlands will appear at Books & Books to discuss his latest book\, The Book of Memory: How We Become Who We Are. The event will take place at the Coral Gables location at 265 Aragon Avenue. Admission is free\, and copies of the book will be available for purchase at the event. For those unable to attend in person\, the book may also be ordered online. \n\n\n\n“The Book of Memory\,” Rowlands explores how memory functions as an evolving process rather than a fixed record. Drawing from philosophy\, neuroscience\, psychology\, and literary references\, he examines how different types of memory shape identity\, including episodic memories\, inherited memories\, and those that fade over time. The discussion considers how memory influences personal history and self understanding.
URL:https://coralgablesmagazine.com/event/an-evening-with-mark-rowlands/
LOCATION:Books & Books\, 265 Aragon Ave.\, Coral Gables\, FL\, 33143
CATEGORIES:Book Reading
ATTACH;FMTTYPE=image/jpeg:https://coralgablesmagazine.com/wp-content/uploads/2026/01/https-cdn.evbuc_.com-images-1134058183-240146819339-1-original.20250924-145454.jpeg
END:VEVENT
BEGIN:VEVENT
DTSTART;TZID=America/Halifax:20260108T150000
DTEND;TZID=America/Halifax:20260108T170000
DTSTAMP:20260423T052245
CREATED:20260106T145458Z
LAST-MODIFIED:20260106T145500Z
UID:78557-1767884400-1767891600@coralgablesmagazine.com
SUMMARY:Louisville Cardinals at Miami Hurricanes’ Women’s Basketball
DESCRIPTION:Come watch the Miami Hurricanes’ women’s basketball team take on Louisville!
URL:https://coralgablesmagazine.com/event/louisville-cardinals-at-miami-hurricanes-womens-basketball-2/
LOCATION:Watsco Center\, 1245 Dauer Drive
CATEGORIES:Events,Sports
ATTACH;FMTTYPE=image/jpeg:https://coralgablesmagazine.com/wp-content/uploads/2025/11/IMG_3198-scaled-e1762275284420.jpeg
END:VEVENT
BEGIN:VEVENT
DTSTART;TZID=America/Halifax:20260107T190000
DTEND;TZID=America/Halifax:20260107T203000
DTSTAMP:20260423T052245
CREATED:20260106T142432Z
LAST-MODIFIED:20260106T142435Z
UID:78546-1767812400-1767817800@coralgablesmagazine.com
SUMMARY:An Evening with Lola Haskins
DESCRIPTION:Image sourced from Eventbrite \n\n\n\nJoin Books & Books for an evening with poet and naturalist Lola Haskins as she discusses “Like Zeros\, Like Pearls” – a curious\, heartfelt\, and deeply researched journey into the hidden worlds of insects and the ecosystems that surround us. Sparked by a moment of wonder outside her own front door\, Haskins spent years interviewing entomologists and studying the science to create a book that is lyrical\, political\, and meticulously accurate. Come explore the beauty and mystery of the natural world in conversation.
URL:https://coralgablesmagazine.com/event/an-evening-with-lola-haskins/
LOCATION:Books & Books\, 265 Aragon Ave.\, Coral Gables\, FL\, 33143
CATEGORIES:Book Reading,Events
ATTACH;FMTTYPE=image/jpeg:https://coralgablesmagazine.com/wp-content/uploads/2026/01/Lola-Haskins.jpg
END:VEVENT
BEGIN:VEVENT
DTSTART;TZID=America/Halifax:20260107T130000
DTEND;TZID=America/Halifax:20260107T140000
DTSTAMP:20260423T052245
CREATED:20260106T162611Z
LAST-MODIFIED:20260106T162614Z
UID:78580-1767790800-1767794400@coralgablesmagazine.com
SUMMARY:Spanish Conversation Circle
DESCRIPTION:Looking to improve your Spanish conversation skills? Join native Spanish speakers and fellow learners for relaxed\, guided conversations designed to build confidence and encourage real-world practice in a welcoming setting.
URL:https://coralgablesmagazine.com/event/spanish-conversation-circle/
LOCATION:Coral Gables Branch Library\, 3443 Segovia Street
CATEGORIES:Events
ATTACH;FMTTYPE=image/png:https://coralgablesmagazine.com/wp-content/uploads/2025/08/Coral-Gables-Library.png
END:VEVENT
BEGIN:VEVENT
DTSTART;TZID=America/Halifax:20260107T100000
DTEND;TZID=America/Halifax:20260107T120000
DTSTAMP:20260423T052245
CREATED:20260106T161951Z
LAST-MODIFIED:20260106T162653Z
UID:78578-1767780000-1767787200@coralgablesmagazine.com
SUMMARY:Silver Screen Mornings
DESCRIPTION:The Big Sleep stars Humphrey Bogart as private investigator Philip Marlowe\, hired by a wealthy Los Angeles family to resolve a blackmail case. What begins as a straightforward assignment quickly expands into a complex investigation involving deception\, crime\, and shifting motives tied to the family’s two daughters. Lauren Bacall co-stars in the film noir adaptation of Raymond Chandler’s novel.
URL:https://coralgablesmagazine.com/event/silver-screen-mornings/
LOCATION:Coral Gables Branch Library\, 3443 Segovia Street
CATEGORIES:Film
ATTACH;FMTTYPE=image/png:https://coralgablesmagazine.com/wp-content/uploads/2025/08/Coral-Gables-Library.png
END:VEVENT
BEGIN:VEVENT
DTSTART;TZID=America/Halifax:20260106T190000
DTEND;TZID=America/Halifax:20260106T200000
DTSTAMP:20260423T052245
CREATED:20251229T181825Z
LAST-MODIFIED:20251229T181826Z
UID:78516-1767726000-1767729600@coralgablesmagazine.com
SUMMARY:An Evening with Sam Sussman
DESCRIPTION:Image sourced from Eventbrite \n\n\n\nIn this deeply moving debut novel\, Sam Sussman writes one of the most tender and intimate mother-son relationships of our era. Caring for his mother as her illness worsens\, and as she begins to tell him truths he has waited so long to hear\, Evan comes to understand the startling gift this extraordinary woman has bequeathed him.
URL:https://coralgablesmagazine.com/event/an-evening-with-sam-sussman/
LOCATION:Books & Books\, 265 Aragon Ave.\, Coral Gables\, FL\, 33143
CATEGORIES:Book Reading,Events
ATTACH;FMTTYPE=image/jpeg:https://coralgablesmagazine.com/wp-content/uploads/2025/12/Boy-from-the-North-Country.jpg
END:VEVENT
BEGIN:VEVENT
DTSTART;TZID=America/Halifax:20260104T140000
DTEND;TZID=America/Halifax:20260104T160000
DTSTAMP:20260423T052245
CREATED:20251229T175757Z
LAST-MODIFIED:20251229T175757Z
UID:78508-1767535200-1767542400@coralgablesmagazine.com
SUMMARY:Clemson Tigers at Miami Hurricanes Women's Basketball
DESCRIPTION:Come watch the Miami Hurricanes’ women’s basketball team take on Clemson!
URL:https://coralgablesmagazine.com/event/clemson-tigers-at-miami-hurricanes-womens-basketball/
LOCATION:Watsco Center\, 1245 Dauer Drive
CATEGORIES:Events,Sports
ATTACH;FMTTYPE=image/jpeg:https://coralgablesmagazine.com/wp-content/uploads/2025/11/IMG_3198-scaled-e1762275284420.jpeg
END:VEVENT
BEGIN:VEVENT
DTSTART;TZID=America/Halifax:20260104T140000
DTEND;TZID=America/Halifax:20260104T140000
DTSTAMP:20260423T052245
CREATED:20260106T165245Z
LAST-MODIFIED:20260106T165308Z
UID:78594-1767535200-1767535200@coralgablesmagazine.com
SUMMARY:Weekend Guided Tours at Merrick House 
DESCRIPTION:In the early days of Coral Gables\, George Merrick turned to one of the most recognizable figures of the time to help bring attention to his new city. That story is revisited with a screening of Million Dollar Mermaid\, a 1952 film inspired by the life of Annette Kellerman\, the swimmer\, performer\, and cultural figure behind Coral Gables’ mermaid. \n\n\n\nStarring Esther Williams\, the film follows Kellerman’s journey from a young girl in Australia learning to swim for her health to an international star known for her aquatic performances and bold publicity stunts. The screening will be introduced by Don Slesnick\, Australian Honorary Consul\, and will conclude with a reception and refreshments on the plaza.
URL:https://coralgablesmagazine.com/event/weekend-guided-tours-at-merrick-house/
LOCATION:Merrick House\, 907 Coral Way\, Coral Gables\, FL\, 33134
CATEGORIES:Film
ATTACH;FMTTYPE=image/jpeg:https://coralgablesmagazine.com/wp-content/uploads/2026/01/Million-dollar-mermaid-poster.jpg
END:VEVENT
BEGIN:VEVENT
DTSTART;TZID=America/Halifax:20260103T220000
DTEND;TZID=America/Halifax:20260103T235000
DTSTAMP:20260423T052245
CREATED:20251229T181325Z
LAST-MODIFIED:20251229T181326Z
UID:78513-1767477600-1767484200@coralgablesmagazine.com
SUMMARY:Top Gun
DESCRIPTION:Image sourced from Coral Gables Art Cinema \n\n\n\n“Top Gun” takes a look at the danger and excitement that awaits every pilot at the Navy’s prestigious fighter weapons school. Tom Cruise is superb as Pete “Maverick” Mitchell\, a daring young flyer who’s out to become the best of the best. And Kelly McGillis sizzles as the civilian instructor who teaches Maverick a few things you can’t learn in a classroom.
URL:https://coralgablesmagazine.com/event/top-gun/
LOCATION:Coral Gables Art Cinema\, 260 Aragon Ave.
CATEGORIES:Events,Film
ATTACH;FMTTYPE=image/jpeg:https://coralgablesmagazine.com/wp-content/uploads/2025/12/Top-Gun-e1767031942694.jpg
END:VEVENT
BEGIN:VEVENT
DTSTART;TZID=America/Halifax:20260103T170000
DTEND;TZID=America/Halifax:20260103T220000
DTSTAMP:20260423T052245
CREATED:20251229T180907Z
LAST-MODIFIED:20251229T180909Z
UID:78511-1767459600-1767477600@coralgablesmagazine.com
SUMMARY:1000 Hours Outside - Supermoon and Meteor Shower
DESCRIPTION:Neurodiverse families across the lifespan are invited to explore accessibility in nature. \n\n\n\nCook dinner on a stick as the first supermoon of 2026 rises over a magical rainbow campfire. Play with glowing bubbles\, crafts\, and games. Watch a movie under the stars that will conclude just as the Quadrantid Meteor Shower is peaking over Coral Gables.
URL:https://coralgablesmagazine.com/event/1000-hours-outside-supermoon-and-meteor-shower/
LOCATION:Ruth Bryan Waterway Park\, 3940 Granada Blvd
CATEGORIES:Events,Parks and Outdoor Activities
ATTACH;FMTTYPE=image/jpeg:https://coralgablesmagazine.com/wp-content/uploads/2023/06/Ruth-Bryan-park-4-e1687361254961.jpg
END:VEVENT
BEGIN:VEVENT
DTSTART;TZID=America/Halifax:20260102T180000
DTEND;TZID=America/Halifax:20260102T220000
DTSTAMP:20260423T052245
CREATED:20251229T175248Z
LAST-MODIFIED:20251229T175249Z
UID:78506-1767376800-1767391200@coralgablesmagazine.com
SUMMARY:Gallery Night
DESCRIPTION:Coral Gables galleries and participating art venues open their doors on the first Friday of the month from 6 to 10 p.m. as part of Coral Gables Gallery Night. At this monthly event\, attendees can enjoy live music and fine art while enjoying a night out in the City Beautiful. Visitors are encouraged to use the city’s trolleys or Freebee on-demand vehicles to travel between galleries. \n\n\n\nConfirmed participating locations include Garcia Art Gallery\, Giralda Live\, and Pedrido Arte Gallery.
URL:https://coralgablesmagazine.com/event/gallery-night/
LOCATION:Downtown Coral Gables\, Downtown Coral Gbales\, Coral Gables\, Florida\, 33134\, United States
CATEGORIES:Art/Museums,Events
ATTACH;FMTTYPE=image/jpeg:https://coralgablesmagazine.com/wp-content/uploads/2024/01/Cubazz-Quartet_giralda-live-e1767030708516.jpg
END:VEVENT
BEGIN:VEVENT
DTSTART;TZID=America/Halifax:20260101T070000
DTEND;TZID=America/Halifax:20260101T120000
DTSTAMP:20260423T052245
CREATED:20251229T003447Z
LAST-MODIFIED:20251229T003448Z
UID:78503-1767250800-1767268800@coralgablesmagazine.com
SUMMARY:New Year’s Day Recovery Brunch at Aragon Café
DESCRIPTION:Image sourced from Eventbrite \n\n\n\nStart the year on the right note with a delicious New Year’s Day Brunch featuring a full buffet and a live omelet station. Enjoy fresh fruit\, pastries\, cereals\, scrambled eggs\, bacon\, breakfast potatoes\, rotating hot entrées\, pancakes\, French toast\, and more.
URL:https://coralgablesmagazine.com/event/new-years-day-recovery-brunch-at-aragon-cafe/
LOCATION:Hotel Colonnade\, 180 Aragon Ave.
CATEGORIES:Events,Food
ATTACH;FMTTYPE=image/jpeg:https://coralgablesmagazine.com/wp-content/uploads/2025/12/Aragon-Cafe.jpg
END:VEVENT
BEGIN:VEVENT
DTSTART;TZID=America/Halifax:20251231T220000
DTEND;TZID=America/Halifax:20260101T010000
DTSTAMP:20260423T052245
CREATED:20251222T213046Z
LAST-MODIFIED:20251222T213048Z
UID:78379-1767218400-1767229200@coralgablesmagazine.com
SUMMARY:The Biltmore New Year's Eve Dessert Soiree & Fireworks
DESCRIPTION:Image sourced from Eventbrite \n\n\n\nDon your finest cocktail party attire and usher in the New Year at the historic Biltmore Hotel. Dance the night away\, indulge in a sumptuous array of desserts\, and savor the delights of a premium open bar. Then as the clock approaches midnight\, raise a glass of bubbly and witness the sky above as the golf course comes alive with a breathtaking fireworks display.
URL:https://coralgablesmagazine.com/event/the-biltmore-new-years-eve-dessert-soiree-fireworks/
LOCATION:The Biltmore Hotel\, 1200 Anastasia Ave.
CATEGORIES:Events
ATTACH;FMTTYPE=image/jpeg:https://coralgablesmagazine.com/wp-content/uploads/2025/12/Biltmore-NYE.jpg
END:VEVENT
BEGIN:VEVENT
DTSTART;TZID=America/Halifax:20251231T200000
DTEND;TZID=America/Halifax:20260101T020000
DTSTAMP:20260423T052245
CREATED:20251222T212536Z
LAST-MODIFIED:20251222T212538Z
UID:78376-1767211200-1767232800@coralgablesmagazine.com
SUMMARY:New Year's Eve at JohnMartin's
DESCRIPTION:Image sourced from Eventbrite \n\n\n\nAs the clock ticks closer to midnight\, the excitement will reach its peak with live DJ\, fantastic drinks\, and a vibrant crowd. Raise your glass and toast to a memorable evening filled with laughter\, joy\, and good company.
URL:https://coralgablesmagazine.com/event/new-years-eve-at-johnmartins/
LOCATION:John Martin’s Irish Pub and Restaurant\, 253 Miracle Mile\, Coral Gables\, Florida\, 33134\, United States
CATEGORIES:Events
ATTACH;FMTTYPE=image/jpeg:https://coralgablesmagazine.com/wp-content/uploads/2025/12/NYE-at-JM.jpg
END:VEVENT
BEGIN:VEVENT
DTSTART;TZID=America/Halifax:20251231T173000
DTEND;TZID=America/Halifax:20251231T173000
DTSTAMP:20260423T052245
CREATED:20251229T001719Z
LAST-MODIFIED:20251229T001724Z
UID:78499-1767202200-1767202200@coralgablesmagazine.com
SUMMARY:Ōmisoka at Kojin: A Japanese New Year’s Eve Celebration
DESCRIPTION:Image sourced from Eventbrite \n\n\n\nŌmisoka (大晦日) is one of Japan’s most important holidays – a night for reflection\, renewal\, and welcoming good fortune for the year ahead. This December 31\, Kojin invites you to celebrate with an exclusive six-course tasting menu inspired by traditional Japanese New Year flavors.
URL:https://coralgablesmagazine.com/event/omisoka-at-kojin-a-japanese-new-years-eve-celebration/
LOCATION:kojin 2.0\, 804 Ponce De Len\, Coral Gables\, Florida\, 33134\, United States
CATEGORIES:Events,Food
ATTACH;FMTTYPE=image/jpeg:https://coralgablesmagazine.com/wp-content/uploads/2025/12/Kojin-NYE.jpg
END:VEVENT
BEGIN:VEVENT
DTSTART;TZID=America/Halifax:20251230T210000
DTEND;TZID=America/Halifax:20251230T210000
DTSTAMP:20260423T052245
CREATED:20251222T213930Z
LAST-MODIFIED:20251222T213932Z
UID:78383-1767128400-1767128400@coralgablesmagazine.com
SUMMARY:Trivia Night
DESCRIPTION:Mark your calendars\, invite your friends\, and join Books & Books for an extraordinary night where Tuesday turns into an intellectually charged adventure\, and Books & Books becomes the arena for the ultimate battle of wits.
URL:https://coralgablesmagazine.com/event/trivia-night-2/
LOCATION:Books & Books\, 265 Aragon Ave.\, Coral Gables\, FL\, 33143
CATEGORIES:Events
ATTACH;FMTTYPE=image/jpeg:https://coralgablesmagazine.com/wp-content/uploads/2023/07/Books-Books-Best-Of-e1724180050590.jpg
END:VEVENT
BEGIN:VEVENT
DTSTART;TZID=America/Halifax:20251230T190000
DTEND;TZID=America/Halifax:20251230T210000
DTSTAMP:20260423T052245
CREATED:20251107T183713Z
LAST-MODIFIED:20251107T183715Z
UID:77345-1767121200-1767128400@coralgablesmagazine.com
SUMMARY:Pittsburgh Panthers at Miami Hurricanes Men's Basketball
DESCRIPTION:Come watch the Miami Hurricanes’ men’s basketball team take on Pittsburgh!
URL:https://coralgablesmagazine.com/event/pittsburgh-panthers-at-miami-hurricanes-mens-basketball/
LOCATION:Watsco Center\, 1245 Dauer Drive
CATEGORIES:Events,Sports
ATTACH;FMTTYPE=image/jpeg:https://coralgablesmagazine.com/wp-content/uploads/2025/11/IMG_3198-scaled-e1762275284420.jpeg
END:VEVENT
BEGIN:VEVENT
DTSTART;TZID=America/Halifax:20251228T143000
DTEND;TZID=America/Halifax:20251228T160000
DTSTAMP:20260423T052245
CREATED:20251222T225754Z
LAST-MODIFIED:20251222T225813Z
UID:78403-1766932200-1766937600@coralgablesmagazine.com
SUMMARY:Lumière & Company
DESCRIPTION:Image sourced from Coral Gables Art Cinema \n\n\n\nFrom The Great Pyramids in Egypt to The Great Wall of China\, from Los Angeles to Hiroshima\, directors throughout the world took part in a unique celebration of cinema. To commemorate the 130th anniversary of the Lumière Brothers’ first “motion picture\,” David Lynch\, Spike Lee\, Wim Wenders\, Zhang Yimou\, John Boorman and a host of leading international filmmakers created their own one minute Lumière Film. Using the restored original camera\, each director offered his own signature style to the film. These exciting eclectic shorts are combined with intriguing interviews with the filmmakers. A must for all movie fans\, Lumière and Company speaks for the loving tribute\, passion\, beauty\, and visionary dream of this 130-year-old art form.
URL:https://coralgablesmagazine.com/event/lumiere-company/
LOCATION:Coral Gables Art Cinema\, 260 Aragon Ave.
CATEGORIES:Events,Film
ATTACH;FMTTYPE=image/png:https://coralgablesmagazine.com/wp-content/uploads/2025/12/lumiere-and-company-still-00003-e1766444208405.png
END:VEVENT
BEGIN:VEVENT
DTSTART;TZID=America/Halifax:20251228T140000
DTEND;TZID=America/Halifax:20251228T160000
DTSTAMP:20260423T052245
CREATED:20251222T222549Z
LAST-MODIFIED:20251222T222551Z
UID:78398-1766930400-1766937600@coralgablesmagazine.com
SUMMARY:Stetson Hatters at Miami Hurricanes Women’s Basketball
DESCRIPTION:Come watch the Miami Hurricanes’ women’s basketball team take on Stetson!
URL:https://coralgablesmagazine.com/event/stetson-hatters-at-miami-hurricanes-womens-basketball/
LOCATION:Watsco Center\, 1245 Dauer Drive
CATEGORIES:Events,Sports
ATTACH;FMTTYPE=image/jpeg:https://coralgablesmagazine.com/wp-content/uploads/2025/11/IMG_3198-scaled-e1762275284420.jpeg
END:VEVENT
BEGIN:VEVENT
DTSTART;TZID=America/Halifax:20251227T220000
DTEND;TZID=America/Halifax:20251228T002500
DTSTAMP:20260423T052245
CREATED:20251222T214757Z
LAST-MODIFIED:20251222T214758Z
UID:78386-1766872800-1766881500@coralgablesmagazine.com
SUMMARY:Strange Days
DESCRIPTION:Image sourced from Coral Gables Art Cinema \n\n\n\nIt’s the eve of the millennium in Los Angeles. December 31\, 1999. Lenny Nero (Ralph Fiennes) is an ex-cop turned street hustler who preys on human nature by dealing the drug of the future. It’s an environment that will lead him deep into the danger zone when he falls into a maze filled with intrigue and betrayal\, murder and conspiracy.
URL:https://coralgablesmagazine.com/event/strange-days/
LOCATION:Coral Gables Art Cinema\, 260 Aragon Ave.
CATEGORIES:Events,Film
ATTACH;FMTTYPE=image/jpeg:https://coralgablesmagazine.com/wp-content/uploads/2025/12/Strange-Days.jpg
END:VEVENT
BEGIN:VEVENT
DTSTART;TZID=America/Halifax:20251227T210000
DTEND;TZID=America/Halifax:20251227T210000
DTSTAMP:20260423T052245
CREATED:20251222T221044Z
LAST-MODIFIED:20251222T221045Z
UID:78395-1766869200-1766869200@coralgablesmagazine.com
SUMMARY:GLASS BLOCS returns to Titanic Restaurant & Brewery
DESCRIPTION:Image sourced from GLASS BOCS \n\n\n\nMiami-based GLASS BLOCS perform eighties new wave hits and deep cuts.
URL:https://coralgablesmagazine.com/event/glass-blocs-returns-to-titanic-restaurant-brewery/
LOCATION:Titanic Brewery\, 5813 Ponce de Leon
CATEGORIES:Events,Music
ATTACH;FMTTYPE=image/jpeg:https://coralgablesmagazine.com/wp-content/uploads/2025/12/Glass-Bocs-e1766441374127.jpg
END:VEVENT
BEGIN:VEVENT
DTSTART;TZID=America/Halifax:20251227T203000
DTEND;TZID=America/Halifax:20251227T203000
DTSTAMP:20260423T052245
CREATED:20251223T193756Z
LAST-MODIFIED:20251223T193758Z
UID:78489-1766867400-1766867400@coralgablesmagazine.com
SUMMARY:Flamenco at La Taberna
DESCRIPTION:La Taberna Giralda brings a glimpse of Southern Spain to Coral Gables through live flamenco performances. The shows highlight the traditional footwork\, music\, and movement shaped by Moorish and Arabic influences\, offering a look into the cultural roots of the art form.
URL:https://coralgablesmagazine.com/event/flamenco-at-la-taberna-3/
LOCATION:La Taberna\, 254 Giralda Avenue
CATEGORIES:Music
ATTACH;FMTTYPE=image/jpeg:https://coralgablesmagazine.com/wp-content/uploads/2023/05/flamenco-lataberna-2-1.jpg
END:VEVENT
END:VCALENDAR