BEGIN:VCALENDAR
VERSION:2.0
PRODID:-//Coral Gables Magazine - ECPv6.15.20//NONSGML v1.0//EN
CALSCALE:GREGORIAN
METHOD:PUBLISH
X-WR-CALNAME:Coral Gables Magazine
X-ORIGINAL-URL:https://coralgablesmagazine.com
X-WR-CALDESC:Events for Coral Gables Magazine
REFRESH-INTERVAL;VALUE=DURATION:PT1H
X-Robots-Tag:noindex
X-PUBLISHED-TTL:PT1H
BEGIN:VTIMEZONE
TZID:America/Halifax
BEGIN:DAYLIGHT
TZOFFSETFROM:-0400
TZOFFSETTO:-0300
TZNAME:ADT
DTSTART:20250309T060000
END:DAYLIGHT
BEGIN:STANDARD
TZOFFSETFROM:-0300
TZOFFSETTO:-0400
TZNAME:AST
DTSTART:20251102T050000
END:STANDARD
BEGIN:DAYLIGHT
TZOFFSETFROM:-0400
TZOFFSETTO:-0300
TZNAME:ADT
DTSTART:20260308T060000
END:DAYLIGHT
BEGIN:STANDARD
TZOFFSETFROM:-0300
TZOFFSETTO:-0400
TZNAME:AST
DTSTART:20261101T050000
END:STANDARD
BEGIN:DAYLIGHT
TZOFFSETFROM:-0400
TZOFFSETTO:-0300
TZNAME:ADT
DTSTART:20270314T060000
END:DAYLIGHT
BEGIN:STANDARD
TZOFFSETFROM:-0300
TZOFFSETTO:-0400
TZNAME:AST
DTSTART:20271107T050000
END:STANDARD
END:VTIMEZONE
BEGIN:VEVENT
DTSTART;TZID=America/Halifax:20260121T160000
DTEND;TZID=America/Halifax:20260429T164500
DTSTAMP:20260422T020100
CREATED:20260221T164834Z
LAST-MODIFIED:20260221T164836Z
UID:79906-1769011200-1777481100@coralgablesmagazine.com
SUMMARY:Mindfulness Sessions Spring 2026
DESCRIPTION:Part of the University of Miami Libraries’ Mindfulness and Well-Being Programs\, Mindfulness for Inner Resilience offers free\, 45-minute online sessions designed to build focus\, calm\, and resilience through guided meditation\, mindful movement\, and reflection. \n\n\n\nSessions are led by Kelly Miller\, Certified Mindfulness Teacher and Director of Mindfulness and Well-Being Programs\, and Professor Scott Rogers\, Director of the Mindfulness in Law Program at the University of Miami School of Law. Guest teachers join select sessions. In Spring 2026\, Gisele Rocha will offer separate yoga sessions. \n\n\n\nSpring 2026 ScheduleWednesdays | 4:00–4:45 p.m. \n\n\n\n4/29 – Cultivating Daily Practice \n\n\n\n1/21 – Beginning Anew \n\n\n\n1/28 – Awareness of Breath \n\n\n\n2/4 – Awareness of Body \n\n\n\n2/11 – Awareness of Feelings \n\n\n\n2/18 – Awareness of Thought \n\n\n\n2/25 – Self-Compassion \n\n\n\n3/4 – Compassion for Others (Scott Rogers) \n\n\n\n3/11 – No Session (Spring Break) \n\n\n\n3/18 & 3/25 – Difficult Emotions \n\n\n\n4/1 – Special Session: Mindfulness and Dance (with Carol Kaminsky) \n\n\n\n4/8 – Awareness of Speech \n\n\n\n4/15 – Cultivating Gratitude \n\n\n\n4/22 – Caring for the Earth
URL:https://coralgablesmagazine.com/event/mindfulness-sessions-spring-2026-2/
LOCATION:Online Event
CATEGORIES:Events
ATTACH;FMTTYPE=image/jpeg:https://coralgablesmagazine.com/wp-content/uploads/2026/02/image-8.jpg
END:VEVENT
BEGIN:VEVENT
DTSTART;TZID=America/Halifax:20260404T130000
DTEND;TZID=America/Halifax:20260502T150000
DTSTAMP:20260422T020100
CREATED:20260318T175335Z
LAST-MODIFIED:20260318T175337Z
UID:80586-1775307600-1777734000@coralgablesmagazine.com
SUMMARY:Celebrate 50 Years of Doc Thomas House Stewardship
DESCRIPTION:This spring\, Tropical Audubon Society celebrates 50 years of stewardship of the historic Doc Thomas House\, a longtime gathering place for conservationists\, preservationists\, and nature lovers. Visitors are invited to explore the 1932 cottage and its grounds through free guided history tours on Saturday\, April 4\, and Saturday\, May 2\, with tours at 1 and 3 p.m. The milestone honors the vision of Arden Hayes “Doc” Thomas and the role his beloved home continues to play in South Florida conservation\, preservation\, and community life.
URL:https://coralgablesmagazine.com/event/celebrate-50-years-of-doc-thomas-house-stewardship/
LOCATION:5530 Sunset Drive\, Miami\, FL 33143; limited onsite parking via the SW 55 Avenue auto gate.
CATEGORIES:Parks and Outdoor Activities
ATTACH;FMTTYPE=image/jpeg:https://coralgablesmagazine.com/wp-content/uploads/2026/03/DTH_FlaHeritageSiteSign-scaled.jpg
END:VEVENT
BEGIN:VEVENT
DTSTART;TZID=America/Halifax:20260422T100000
DTEND;TZID=America/Halifax:20260422T120000
DTSTAMP:20260422T020100
CREATED:20260421T142149Z
LAST-MODIFIED:20260421T142150Z
UID:81572-1776852000-1776859200@coralgablesmagazine.com
SUMMARY:Silver Screen Mornings: "Strangers on a Train" (PG)
DESCRIPTION:“Strangers on a Train\,” the 1951 psychological thriller from director Alfred Hitchcock\, remains one of cinema’s most chilling studies in obsession and culpability. When a charming but dangerous psychopath proposes a diabolical pact to tennis star Guy Haines\, what begins as idle conversation on a train becomes an inescapable nightmare. The screenplay\, adapted from Patricia Highsmith’s 1950 novel by Raymond Chandler and Czenzi Ormonde\, crackles with tension and moral ambiguity. Starring Farley Granger\, Ruth Roman\, and Robert Walker\, the film is a portrait of how easily an ordinary life can be upended by one wrong encounter. Selected for preservation in the United States National Film Registry in 2021 by the Library of Congress for its cultural\, historical\, and aesthetic significance\, Strangers on a Train endures as essential Hitchcock.
URL:https://coralgablesmagazine.com/event/silver-screen-mornings-strangers-on-a-train-pg/
LOCATION:Coral Gables Branch Library\, 3443 Segovia Street
CATEGORIES:Film
ATTACH;FMTTYPE=image/jpeg:https://coralgablesmagazine.com/wp-content/uploads/2026/04/Strangers_on_a_Train_film.jpg
END:VEVENT
BEGIN:VEVENT
DTSTART;TZID=America/Halifax:20260422T103000
DTEND;TZID=America/Halifax:20260422T140000
DTSTAMP:20260422T020100
CREATED:20260421T140814Z
LAST-MODIFIED:20260421T140817Z
UID:81567-1776853800-1776866400@coralgablesmagazine.com
SUMMARY:Earth Day Fair
DESCRIPTION:The Lakeside Patio transforms into a hub of environmental action as the University of Miami hosts its annual Earth Day Fair from 10:30 am to 2 pm. Students\, faculty\, staff\, vendors\, and community partners gather to spotlight the initiatives making UM and the planet a greener place. Don’t miss the Yellow Submarine activation led by UM Art Professor Billie Lynn\, a standout installation celebrating ocean conservation. The Student Government ECO Agency will be on hand with green giveaways and Playa Bowl vouchers for the UM community. The celebration wraps up with Patio Jams\, a live concert featuring Aisha\, running from 2 to 3:30 pm.
URL:https://coralgablesmagazine.com/event/earth-day-fair/
LOCATION:Lakeside Patio\, 1280 Stanford\, Florida\, 33146\, United States
CATEGORIES:Parks and Outdoor Activities
ATTACH;FMTTYPE=image/jpeg:https://coralgablesmagazine.com/wp-content/uploads/2026/04/em26-edfair2026def.jpg
END:VEVENT
BEGIN:VEVENT
DTSTART;TZID=America/Halifax:20260422T180000
DTEND;TZID=America/Halifax:20260422T180000
DTSTAMP:20260422T020100
CREATED:20260313T160719Z
LAST-MODIFIED:20260414T164311Z
UID:80428-1776880800-1776880800@coralgablesmagazine.com
SUMMARY:With & Without: A Coral Story
DESCRIPTION:Watch a screening of “With & Without: A Coral Story\,” a documentary that examines the impact of Stony Coral Tissue Loss Disease on coral reef ecosystems. The film follows scientists studying the outbreak since it was first identified in 2014 and explores the ongoing effort to understand the disease and protect coral reefs. Through interviews with researchers and marine experts\, the documentary looks at the environmental challenges facing coral reefs and the role human activity plays in their decline
URL:https://coralgablesmagazine.com/event/with-without-a-coral-story/
LOCATION:Coral Gables Art Cinema\, 260 Aragon Ave.
CATEGORIES:Film
ATTACH;FMTTYPE=image/png:https://coralgablesmagazine.com/wp-content/uploads/2026/03/Screenshot-2026-03-09-at-12.38.53-2048x867-1-1024x434-1.png
END:VEVENT
BEGIN:VEVENT
DTSTART;TZID=America/Halifax:20260422T180000
DTEND;TZID=America/Halifax:20260422T230000
DTSTAMP:20260422T020100
CREATED:20260421T154616Z
LAST-MODIFIED:20260421T154618Z
UID:81629-1776880800-1776898800@coralgablesmagazine.com
SUMMARY:The Secret Stir with Gio Gutierrez
DESCRIPTION:The Secret Stir brings an unforgettable night to Coral Gables with master bartender and U.S. Havana Club Ambassador Gio Gutierrez behind the bar. Cuban-born and Miami-bred\, Gio has spent over a decade with Bacardi hosting\, training\, and guest bartending across the country\, turning rum education into something far beyond the traditional cocktail experience. This evening features his signature creations\, an evening soundtrack from the vinyl collection\, and the kind of storytelling that makes every drink taste better. \n\n\n\nDuring this evening\, all cocktails and house drinks are included. Wine bottles and light bites available for purchase. 
URL:https://coralgablesmagazine.com/event/the-secret-stir-with-gio-gutierrez/
LOCATION:The Burrow\, 94 Miracle Mile\, Florida\, 33134\, United States
CATEGORIES:Events
ATTACH;FMTTYPE=image/jpeg:https://coralgablesmagazine.com/wp-content/uploads/2026/04/fgpkz7usmg6gcmqruvmr.jpg
END:VEVENT
END:VCALENDAR