BEGIN:VCALENDAR
VERSION:2.0
PRODID:-//Coral Gables Magazine - ECPv6.15.20//NONSGML v1.0//EN
CALSCALE:GREGORIAN
METHOD:PUBLISH
X-WR-CALNAME:Coral Gables Magazine
X-ORIGINAL-URL:https://coralgablesmagazine.com
X-WR-CALDESC:Events for Coral Gables Magazine
REFRESH-INTERVAL;VALUE=DURATION:PT1H
X-Robots-Tag:noindex
X-PUBLISHED-TTL:PT1H
BEGIN:VTIMEZONE
TZID:America/Halifax
BEGIN:DAYLIGHT
TZOFFSETFROM:-0400
TZOFFSETTO:-0300
TZNAME:ADT
DTSTART:20250309T060000
END:DAYLIGHT
BEGIN:STANDARD
TZOFFSETFROM:-0300
TZOFFSETTO:-0400
TZNAME:AST
DTSTART:20251102T050000
END:STANDARD
BEGIN:DAYLIGHT
TZOFFSETFROM:-0400
TZOFFSETTO:-0300
TZNAME:ADT
DTSTART:20260308T060000
END:DAYLIGHT
BEGIN:STANDARD
TZOFFSETFROM:-0300
TZOFFSETTO:-0400
TZNAME:AST
DTSTART:20261101T050000
END:STANDARD
BEGIN:DAYLIGHT
TZOFFSETFROM:-0400
TZOFFSETTO:-0300
TZNAME:ADT
DTSTART:20270314T060000
END:DAYLIGHT
BEGIN:STANDARD
TZOFFSETFROM:-0300
TZOFFSETTO:-0400
TZNAME:AST
DTSTART:20271107T050000
END:STANDARD
END:VTIMEZONE
BEGIN:VEVENT
DTSTART;TZID=America/Halifax:20260121T160000
DTEND;TZID=America/Halifax:20260429T164500
DTSTAMP:20260421T022252
CREATED:20260221T164834Z
LAST-MODIFIED:20260221T164836Z
UID:79906-1769011200-1777481100@coralgablesmagazine.com
SUMMARY:Mindfulness Sessions Spring 2026
DESCRIPTION:Part of the University of Miami Libraries’ Mindfulness and Well-Being Programs\, Mindfulness for Inner Resilience offers free\, 45-minute online sessions designed to build focus\, calm\, and resilience through guided meditation\, mindful movement\, and reflection. \n\n\n\nSessions are led by Kelly Miller\, Certified Mindfulness Teacher and Director of Mindfulness and Well-Being Programs\, and Professor Scott Rogers\, Director of the Mindfulness in Law Program at the University of Miami School of Law. Guest teachers join select sessions. In Spring 2026\, Gisele Rocha will offer separate yoga sessions. \n\n\n\nSpring 2026 ScheduleWednesdays | 4:00–4:45 p.m. \n\n\n\n4/29 – Cultivating Daily Practice \n\n\n\n1/21 – Beginning Anew \n\n\n\n1/28 – Awareness of Breath \n\n\n\n2/4 – Awareness of Body \n\n\n\n2/11 – Awareness of Feelings \n\n\n\n2/18 – Awareness of Thought \n\n\n\n2/25 – Self-Compassion \n\n\n\n3/4 – Compassion for Others (Scott Rogers) \n\n\n\n3/11 – No Session (Spring Break) \n\n\n\n3/18 & 3/25 – Difficult Emotions \n\n\n\n4/1 – Special Session: Mindfulness and Dance (with Carol Kaminsky) \n\n\n\n4/8 – Awareness of Speech \n\n\n\n4/15 – Cultivating Gratitude \n\n\n\n4/22 – Caring for the Earth
URL:https://coralgablesmagazine.com/event/mindfulness-sessions-spring-2026-2/
LOCATION:Online Event
CATEGORIES:Events
ATTACH;FMTTYPE=image/jpeg:https://coralgablesmagazine.com/wp-content/uploads/2026/02/image-8.jpg
END:VEVENT
BEGIN:VEVENT
DTSTART;TZID=America/Halifax:20260404T130000
DTEND;TZID=America/Halifax:20260502T150000
DTSTAMP:20260421T022252
CREATED:20260318T175335Z
LAST-MODIFIED:20260318T175337Z
UID:80586-1775307600-1777734000@coralgablesmagazine.com
SUMMARY:Celebrate 50 Years of Doc Thomas House Stewardship
DESCRIPTION:This spring\, Tropical Audubon Society celebrates 50 years of stewardship of the historic Doc Thomas House\, a longtime gathering place for conservationists\, preservationists\, and nature lovers. Visitors are invited to explore the 1932 cottage and its grounds through free guided history tours on Saturday\, April 4\, and Saturday\, May 2\, with tours at 1 and 3 p.m. The milestone honors the vision of Arden Hayes “Doc” Thomas and the role his beloved home continues to play in South Florida conservation\, preservation\, and community life.
URL:https://coralgablesmagazine.com/event/celebrate-50-years-of-doc-thomas-house-stewardship/
LOCATION:5530 Sunset Drive\, Miami\, FL 33143; limited onsite parking via the SW 55 Avenue auto gate.
CATEGORIES:Parks and Outdoor Activities
ATTACH;FMTTYPE=image/jpeg:https://coralgablesmagazine.com/wp-content/uploads/2026/03/DTH_FlaHeritageSiteSign-scaled.jpg
END:VEVENT
BEGIN:VEVENT
DTSTART;TZID=America/Halifax:20260405T100000
DTEND;TZID=America/Halifax:20260405T150000
DTSTAMP:20260421T022252
CREATED:20260317T134300Z
LAST-MODIFIED:20260317T134302Z
UID:80545-1775383200-1775401200@coralgablesmagazine.com
SUMMARY:Easter Egg Hunt
DESCRIPTION:The Shops at Merrick Park will host an Easter egg hunt in partnership with La Roca Miami at The Shops at Merrick Park. The event will feature hundreds of candy filled eggs placed throughout the open air property\, along with activities designed for children and families. \n\n\n\nGuests can expect face painting\, arts and crafts\, seasonal games\, and appearances by the Easter Bunny. Select retailers at The Shops at Merrick Park will also offer treats and giveaways during the event.
URL:https://coralgablesmagazine.com/event/easter-egg-hunt/
LOCATION:The Shops at Merrick Park\, 358 San Lorenzo Avenue\, Coral Gables\, FL\, 33146
CATEGORIES:Parks and Outdoor Activities
ATTACH;FMTTYPE=image/jpeg:https://coralgablesmagazine.com/wp-content/uploads/2026/03/Image-1-1.jpg
END:VEVENT
BEGIN:VEVENT
DTSTART;TZID=America/Halifax:20260405T090000
DTEND;TZID=America/Halifax:20260405T140000
DTSTAMP:20260421T022252
CREATED:20260331T164617Z
LAST-MODIFIED:20260331T164618Z
UID:80975-1775379600-1775397600@coralgablesmagazine.com
SUMMARY:Easter at Granada Church with Musicall
DESCRIPTION:Granada Church presents Easter services in collaboration with MUSICALL\, featuring music by Beethoven and Handel\, led by conductor Rachel Currea. The program is centered on live musical performance and differs from regular member services. \n\n\n\nTwo identical services will take place from 9 to 10 am and 11 am to 12 pm. The event includes a family photo area and Easter egg hunts following each service.
URL:https://coralgablesmagazine.com/event/easter-at-granada-church-with-musicall/
LOCATION:Granada Church\, 950 University Drive\, Coral Gables\, Florida\, United States
CATEGORIES:Events
ATTACH;FMTTYPE=image/jpeg:https://coralgablesmagazine.com/wp-content/uploads/2026/03/image-6.jpg
END:VEVENT
BEGIN:VEVENT
DTSTART;TZID=America/Halifax:20260405T100000
DTEND;TZID=America/Halifax:20260405T170000
DTSTAMP:20260421T022252
CREATED:20260317T133458Z
LAST-MODIFIED:20260317T133501Z
UID:80541-1775383200-1775408400@coralgablesmagazine.com
SUMMARY:The Bunny Hoppening 
DESCRIPTION:Fairchild Tropical Botanic Garden will host its annual Easter celebration\, The Bunny Hoppening\, on Easter Sunday at Fairchild Tropical Botanic Garden. The event brings seasonal activities to the Garden’s grounds\, with options for both families and adults. \n\n\n\nGeneral admission includes access to Mr. Bunny meet and greets\, the Bubble Bunny Hop\, children’s games\, and the Cottontail Express. Additional experiences are available for purchase\, including the Eggsplore Galore egg hunt at $17.95 per participant\, mini cocktail flights or mini mimosas at $34\, and adult and child picnic baskets.
URL:https://coralgablesmagazine.com/event/the-bunny-hoppening/
LOCATION:Fairchild Tropical Botanic Garden\, 10901 Old Cutler Road
CATEGORIES:Parks and Outdoor Activities
ATTACH;FMTTYPE=image/png:https://coralgablesmagazine.com/wp-content/uploads/2026/03/ITEM_events_eb7820ee-5ba8-474d-bba9-b1d03c2d1495_-FC-TBH-XTL-Banner-1.png
END:VEVENT
BEGIN:VEVENT
DTSTART;TZID=America/Halifax:20260405T130000
DTEND;TZID=America/Halifax:20260405T130000
DTSTAMP:20260421T022252
CREATED:20260313T155659Z
LAST-MODIFIED:20260313T155701Z
UID:80420-1775394000-1775394000@coralgablesmagazine.com
SUMMARY:The Audience
DESCRIPTION:Watch a filmed presentation of “The Audience\,” the stage play by Peter Morgan that explores the private weekly meetings between Queen Elizabeth II and her prime ministers. The production depicts conversations with leaders including Winston Churchill\, Margaret Thatcher\, and David Cameron\, offering insight into the role of the monarch during moments of political and personal significance. The play was recorded live in London’s West End in 2013 and later became one of the most viewed productions in the National Theatre Live series.
URL:https://coralgablesmagazine.com/event/the-audience/
LOCATION:Coral Gables Art Cinema\, 260 Aragon Ave.
CATEGORIES:Film
ATTACH;FMTTYPE=image/jpeg:https://coralgablesmagazine.com/wp-content/uploads/2026/03/the-audience-ntl-poster.jpg
END:VEVENT
BEGIN:VEVENT
DTSTART;TZID=America/Halifax:20260405T120000
DTEND;TZID=America/Halifax:20260405T120000
DTSTAMP:20260421T022252
CREATED:20260331T165113Z
LAST-MODIFIED:20260331T165115Z
UID:80981-1775390400-1775390400@coralgablesmagazine.com
SUMMARY:Easter Brunch
DESCRIPTION:Americana Kitchen at Loews Coral Gables Hotel presents an Easter Sunday brunch featuring a buffet with breakfast selections\, a waffle station\, made-to-order omelets\, chilled seafood\, carving stations\, salads\, charcuterie\, and desserts. A dedicated kids area includes items such as mac and cheese and sliders. \n\n\n\nThe event includes live music\, face painting\, a balloon artist\, and an Easter egg hunt with a golden egg prize for a two-night hotel stay. Indoor and outdoor terrace seating is available. Pricing is $125++ per adult\, $45 per child ages 6 to 12\, and children 5 and under eat free.
URL:https://coralgablesmagazine.com/event/easter-brunch/
LOCATION:Americana Kitchen\, 2950 Coconut Grove Dr\, Coral Gables\, Florida\, 33134\, United States
CATEGORIES:Food
ATTACH;FMTTYPE=image/png:https://coralgablesmagazine.com/wp-content/uploads/2023/08/Americana-Kitchen.png
END:VEVENT
END:VCALENDAR