BEGIN:VCALENDAR
VERSION:2.0
PRODID:-//Coral Gables Magazine - ECPv6.15.20//NONSGML v1.0//EN
CALSCALE:GREGORIAN
METHOD:PUBLISH
X-ORIGINAL-URL:https://coralgablesmagazine.com
X-WR-CALDESC:Events for Coral Gables Magazine
REFRESH-INTERVAL;VALUE=DURATION:PT1H
X-Robots-Tag:noindex
X-PUBLISHED-TTL:PT1H
BEGIN:VTIMEZONE
TZID:America/Halifax
BEGIN:DAYLIGHT
TZOFFSETFROM:-0400
TZOFFSETTO:-0300
TZNAME:ADT
DTSTART:20250309T060000
END:DAYLIGHT
BEGIN:STANDARD
TZOFFSETFROM:-0300
TZOFFSETTO:-0400
TZNAME:AST
DTSTART:20251102T050000
END:STANDARD
BEGIN:DAYLIGHT
TZOFFSETFROM:-0400
TZOFFSETTO:-0300
TZNAME:ADT
DTSTART:20260308T060000
END:DAYLIGHT
BEGIN:STANDARD
TZOFFSETFROM:-0300
TZOFFSETTO:-0400
TZNAME:AST
DTSTART:20261101T050000
END:STANDARD
BEGIN:DAYLIGHT
TZOFFSETFROM:-0400
TZOFFSETTO:-0300
TZNAME:ADT
DTSTART:20270314T060000
END:DAYLIGHT
BEGIN:STANDARD
TZOFFSETFROM:-0300
TZOFFSETTO:-0400
TZNAME:AST
DTSTART:20271107T050000
END:STANDARD
END:VTIMEZONE
BEGIN:VEVENT
DTSTART;TZID=America/Halifax:20260121T160000
DTEND;TZID=America/Halifax:20260429T164500
DTSTAMP:20260421T041226
CREATED:20260221T164834Z
LAST-MODIFIED:20260221T164836Z
UID:79906-1769011200-1777481100@coralgablesmagazine.com
SUMMARY:Mindfulness Sessions Spring 2026
DESCRIPTION:Part of the University of Miami Libraries’ Mindfulness and Well-Being Programs\, Mindfulness for Inner Resilience offers free\, 45-minute online sessions designed to build focus\, calm\, and resilience through guided meditation\, mindful movement\, and reflection. \n\n\n\nSessions are led by Kelly Miller\, Certified Mindfulness Teacher and Director of Mindfulness and Well-Being Programs\, and Professor Scott Rogers\, Director of the Mindfulness in Law Program at the University of Miami School of Law. Guest teachers join select sessions. In Spring 2026\, Gisele Rocha will offer separate yoga sessions. \n\n\n\nSpring 2026 ScheduleWednesdays | 4:00–4:45 p.m. \n\n\n\n4/29 – Cultivating Daily Practice \n\n\n\n1/21 – Beginning Anew \n\n\n\n1/28 – Awareness of Breath \n\n\n\n2/4 – Awareness of Body \n\n\n\n2/11 – Awareness of Feelings \n\n\n\n2/18 – Awareness of Thought \n\n\n\n2/25 – Self-Compassion \n\n\n\n3/4 – Compassion for Others (Scott Rogers) \n\n\n\n3/11 – No Session (Spring Break) \n\n\n\n3/18 & 3/25 – Difficult Emotions \n\n\n\n4/1 – Special Session: Mindfulness and Dance (with Carol Kaminsky) \n\n\n\n4/8 – Awareness of Speech \n\n\n\n4/15 – Cultivating Gratitude \n\n\n\n4/22 – Caring for the Earth
URL:https://coralgablesmagazine.com/event/mindfulness-sessions-spring-2026-2/
LOCATION:Online Event
CATEGORIES:Events
ATTACH;FMTTYPE=image/jpeg:https://coralgablesmagazine.com/wp-content/uploads/2026/02/image-8.jpg
END:VEVENT
BEGIN:VEVENT
DTSTART;TZID=America/Halifax:20260404T040000
DTEND;TZID=America/Halifax:20260404T220000
DTSTAMP:20260421T041226
CREATED:20260331T164828Z
LAST-MODIFIED:20260331T164830Z
UID:80978-1775275200-1775340000@coralgablesmagazine.com
SUMMARY:Giralda Plaza Artisan Market
DESCRIPTION:The Giralda Plaza Artisan Market takes place every first and third Saturday at Giralda Plaza in Coral Gables. The open-air market features more than 20 local artisan vendors\, along with dining and drink options from nearby restaurants and bars. Upcoming dates include February 21st and March 7 and 21. The market runs from 4:00 to 10:00 PM and continues on select Saturdays through April 2026.
URL:https://coralgablesmagazine.com/event/giralda-plaza-artisan-market-5/
LOCATION:Giralda Plaza\, 120 Giralda Ave\, Coral Gables\, Florida\, United States
CATEGORIES:Parks and Outdoor Activities
ATTACH;FMTTYPE=image/jpeg:https://coralgablesmagazine.com/wp-content/uploads/2026/03/IMG_6804-797x1024-1-1.jpg
END:VEVENT
BEGIN:VEVENT
DTSTART;TZID=America/Halifax:20260404T100000
DTEND;TZID=America/Halifax:20260404T120000
DTSTAMP:20260421T041226
CREATED:20260325T183159Z
LAST-MODIFIED:20260325T183201Z
UID:80792-1775296800-1775304000@coralgablesmagazine.com
SUMMARY:Eggstreme Egg Hunt
DESCRIPTION:Join the City of Coral Gables for a multi-location egg hunt on Saturday\, April 4\, beginning at 10 am at War Memorial Youth Center\, where the main hunt takes place on the athletic field and a toddler hunt for ages three and under follows at 10:30 am inside the basketball gym. Additional hunts begin at 11 am at Ruth Owen Waterway Park\, Jaycee Park\, and Coral Bay Park. Participants can find gold\, silver\, and bronze eggs for prizes. For more information\, visit GablesRecreation.com or contact specialevents@coralgables.com.
URL:https://coralgablesmagazine.com/event/eggstreme-egg-hunt/
CATEGORIES:Parks and Outdoor Activities
ATTACH;FMTTYPE=image/png:https://coralgablesmagazine.com/wp-content/uploads/2026/03/eggstreme-egg-hunt.png
END:VEVENT
BEGIN:VEVENT
DTSTART;TZID=America/Halifax:20260404T110000
DTEND;TZID=America/Halifax:20260404T110000
DTSTAMP:20260421T041226
CREATED:20260313T160154Z
LAST-MODIFIED:20260313T160156Z
UID:80424-1775300400-1775300400@coralgablesmagazine.com
SUMMARY:My Neighbor Totoro
DESCRIPTION:Watch a screening of “My Neighbor Totoro\,” the animated film by director Hayao Miyazaki. The story follows sisters Satsuki and Mei\, who move to the countryside with their father while their mother is recovering in a nearby hospital. While exploring the surrounding forest\, the girls encounter Totoro\, a large and mysterious creature who lives in an ancient camphor tree and is visible only to children. The film reflects on childhood imagination and the relationship between people and the natural world.  \n\n\n\nPay What You Can Per TicketJapanese with English Screening
URL:https://coralgablesmagazine.com/event/my-neighbor-totoro/
LOCATION:Coral Gables Art Cinema\, 260 Aragon Ave.
CATEGORIES:Film
ATTACH;FMTTYPE=image/jpeg:https://coralgablesmagazine.com/wp-content/uploads/2026/03/totoro-poster.jpg
END:VEVENT
BEGIN:VEVENT
DTSTART;TZID=America/Halifax:20260404T110000
DTEND;TZID=America/Halifax:20260404T130000
DTSTAMP:20260421T041226
CREATED:20260325T184132Z
LAST-MODIFIED:20260325T184134Z
UID:80795-1775300400-1775307600@coralgablesmagazine.com
SUMMARY:Gentle Egg Hunt
DESCRIPTION:Join War Memorial Youth Center for an inclusive egg hunt designed to accommodate different sensory needs. Participants can take their time searching for eggs\, with beeping and elevated egg options available. The event does not include costumed characters and does not require participants to speak\, act\, or dress in a certain way. A quiet area\, along with additional resources and activities\, will be available in the park. Admission is free\, but registration is required.
URL:https://coralgablesmagazine.com/event/gentle-egg-hunt-2/
LOCATION:Ruth Bryan Owen Waterway Park\, Coral Gables\, 33134\, United States
ATTACH;FMTTYPE=image/png:https://coralgablesmagazine.com/wp-content/uploads/2026/03/e4d9766a-0d09-472b-ab91-88b9ffc6d9f9-2.png
END:VEVENT
BEGIN:VEVENT
DTSTART;TZID=America/Halifax:20260404T130000
DTEND;TZID=America/Halifax:20260502T150000
DTSTAMP:20260421T041226
CREATED:20260318T175335Z
LAST-MODIFIED:20260318T175337Z
UID:80586-1775307600-1777734000@coralgablesmagazine.com
SUMMARY:Celebrate 50 Years of Doc Thomas House Stewardship
DESCRIPTION:This spring\, Tropical Audubon Society celebrates 50 years of stewardship of the historic Doc Thomas House\, a longtime gathering place for conservationists\, preservationists\, and nature lovers. Visitors are invited to explore the 1932 cottage and its grounds through free guided history tours on Saturday\, April 4\, and Saturday\, May 2\, with tours at 1 and 3 p.m. The milestone honors the vision of Arden Hayes “Doc” Thomas and the role his beloved home continues to play in South Florida conservation\, preservation\, and community life.
URL:https://coralgablesmagazine.com/event/celebrate-50-years-of-doc-thomas-house-stewardship/
LOCATION:5530 Sunset Drive\, Miami\, FL 33143; limited onsite parking via the SW 55 Avenue auto gate.
CATEGORIES:Parks and Outdoor Activities
ATTACH;FMTTYPE=image/jpeg:https://coralgablesmagazine.com/wp-content/uploads/2026/03/DTH_FlaHeritageSiteSign-scaled.jpg
END:VEVENT
BEGIN:VEVENT
DTSTART;TZID=America/Halifax:20260404T193000
DTEND;TZID=America/Halifax:20260404T213000
DTSTAMP:20260421T041226
CREATED:20260331T164259Z
LAST-MODIFIED:20260331T164302Z
UID:80972-1775331000-1775338200@coralgablesmagazine.com
SUMMARY:Frost Musical Family Concert
DESCRIPTION:The Frost Musical Theatre Ensemble presents a program of music from Disney films on [insert date and time]. The performance includes selections from “Snow White and the Seven Dwarfs\,” “Pinocchio\,” “Cinderella\,” “Sleeping Beauty\,” “The Jungle Book\,” “Aladdin\,” “The Lion King\,” “Tangled\,” and “Frozen.” \n\n\n\nPresented by student performers from the University of Miami Frost School of Music\, the program spans multiple decades of Disney productions.
URL:https://coralgablesmagazine.com/event/frost-musical-family-concert/
LOCATION:UM Gusman Concert Hall\, 1314 Miller Drive
CATEGORIES:Music
ATTACH;FMTTYPE=image/png:https://coralgablesmagazine.com/wp-content/uploads/2026/03/8a55ebf8-6485-4f99-b925-fe5386e9fcef-e1774975342204.png
END:VEVENT
BEGIN:VEVENT
DTSTART;TZID=America/Halifax:20260404T200000
DTEND;TZID=America/Halifax:20260404T200000
DTSTAMP:20260421T041226
CREATED:20260331T170237Z
LAST-MODIFIED:20260331T170737Z
UID:80986-1775332800-1775332800@coralgablesmagazine.com
SUMMARY:Pro-Arte presents FEELING HAVANA
DESCRIPTION:Feeling Havana is a live music performance celebrating Cuban music from the 1950s. Vocalists Emilio Frías\, Miriam Mar\, and Ramón Álvarez perform alongside a big band–style orchestra\, interpreting songs associated with artists including Benny Moré\, Celia Cruz\, La Lupe\, Vicentico Valdés\, and Miguelito Cuní. \n\n\n\nThe program features genres such as bolero\, son\, mambo\, and Afro-Cuban music\, reflecting the sound and style of mid-century Havana.
URL:https://coralgablesmagazine.com/event/pro-arte-presents-feeling-havana/
LOCATION:Sanctuary of the Arts\, 410 Andalusia Ave
CATEGORIES:Music,Theater
ATTACH;FMTTYPE=image/png:https://coralgablesmagazine.com/wp-content/uploads/2026/03/0-2.png
END:VEVENT
END:VCALENDAR