BEGIN:VCALENDAR
VERSION:2.0
PRODID:-//Coral Gables Magazine - ECPv6.15.20//NONSGML v1.0//EN
CALSCALE:GREGORIAN
METHOD:PUBLISH
X-WR-CALNAME:Coral Gables Magazine
X-ORIGINAL-URL:https://coralgablesmagazine.com
X-WR-CALDESC:Events for Coral Gables Magazine
REFRESH-INTERVAL;VALUE=DURATION:PT1H
X-Robots-Tag:noindex
X-PUBLISHED-TTL:PT1H
BEGIN:VTIMEZONE
TZID:America/Halifax
BEGIN:DAYLIGHT
TZOFFSETFROM:-0400
TZOFFSETTO:-0300
TZNAME:ADT
DTSTART:20250309T060000
END:DAYLIGHT
BEGIN:STANDARD
TZOFFSETFROM:-0300
TZOFFSETTO:-0400
TZNAME:AST
DTSTART:20251102T050000
END:STANDARD
BEGIN:DAYLIGHT
TZOFFSETFROM:-0400
TZOFFSETTO:-0300
TZNAME:ADT
DTSTART:20260308T060000
END:DAYLIGHT
BEGIN:STANDARD
TZOFFSETFROM:-0300
TZOFFSETTO:-0400
TZNAME:AST
DTSTART:20261101T050000
END:STANDARD
BEGIN:DAYLIGHT
TZOFFSETFROM:-0400
TZOFFSETTO:-0300
TZNAME:ADT
DTSTART:20270314T060000
END:DAYLIGHT
BEGIN:STANDARD
TZOFFSETFROM:-0300
TZOFFSETTO:-0400
TZNAME:AST
DTSTART:20271107T050000
END:STANDARD
END:VTIMEZONE
BEGIN:VEVENT
DTSTART;TZID=America/Halifax:20260121T160000
DTEND;TZID=America/Halifax:20260429T164500
DTSTAMP:20260421T070518
CREATED:20260221T164834Z
LAST-MODIFIED:20260221T164836Z
UID:79906-1769011200-1777481100@coralgablesmagazine.com
SUMMARY:Mindfulness Sessions Spring 2026
DESCRIPTION:Part of the University of Miami Libraries’ Mindfulness and Well-Being Programs\, Mindfulness for Inner Resilience offers free\, 45-minute online sessions designed to build focus\, calm\, and resilience through guided meditation\, mindful movement\, and reflection. \n\n\n\nSessions are led by Kelly Miller\, Certified Mindfulness Teacher and Director of Mindfulness and Well-Being Programs\, and Professor Scott Rogers\, Director of the Mindfulness in Law Program at the University of Miami School of Law. Guest teachers join select sessions. In Spring 2026\, Gisele Rocha will offer separate yoga sessions. \n\n\n\nSpring 2026 ScheduleWednesdays | 4:00–4:45 p.m. \n\n\n\n4/29 – Cultivating Daily Practice \n\n\n\n1/21 – Beginning Anew \n\n\n\n1/28 – Awareness of Breath \n\n\n\n2/4 – Awareness of Body \n\n\n\n2/11 – Awareness of Feelings \n\n\n\n2/18 – Awareness of Thought \n\n\n\n2/25 – Self-Compassion \n\n\n\n3/4 – Compassion for Others (Scott Rogers) \n\n\n\n3/11 – No Session (Spring Break) \n\n\n\n3/18 & 3/25 – Difficult Emotions \n\n\n\n4/1 – Special Session: Mindfulness and Dance (with Carol Kaminsky) \n\n\n\n4/8 – Awareness of Speech \n\n\n\n4/15 – Cultivating Gratitude \n\n\n\n4/22 – Caring for the Earth
URL:https://coralgablesmagazine.com/event/mindfulness-sessions-spring-2026-2/
LOCATION:Online Event
CATEGORIES:Events
ATTACH;FMTTYPE=image/jpeg:https://coralgablesmagazine.com/wp-content/uploads/2026/02/image-8.jpg
END:VEVENT
BEGIN:VEVENT
DTSTART;TZID=America/Halifax:20260402T090000
DTEND;TZID=America/Halifax:20260402T090000
DTSTAMP:20260421T070518
CREATED:20260311T183438Z
LAST-MODIFIED:20260311T183440Z
UID:80313-1775120400-1775120400@coralgablesmagazine.com
SUMMARY:Autism Acceptance Flag Raising 
DESCRIPTION:Join the City of Coral Gables for the raising of the Autism Acceptance Flag\, created by students at Crystal Academy in collaboration with attorney\, advocate\, and artist Haley Moss. The ceremony highlights the initiative now being adopted by municipalities across Miami-Dade County. The Autism Acceptance Caravan will then continue through the community and arrive at Crystal Academy at 1:00 pm.
URL:https://coralgablesmagazine.com/event/autism-acceptance-flag-raising/
LOCATION:Coral Gables Police & Fire Headquarters\, 2151 Salzedo St.
CATEGORIES:Parks and Outdoor Activities
ATTACH;FMTTYPE=image/png:https://coralgablesmagazine.com/wp-content/uploads/2026/03/unnamed-1.png
END:VEVENT
BEGIN:VEVENT
DTSTART;TZID=America/Halifax:20260402T180000
DTEND;TZID=America/Halifax:20260402T183000
DTSTAMP:20260421T070518
CREATED:20260304T202258Z
LAST-MODIFIED:20260304T202333Z
UID:80152-1775152800-1775154600@coralgablesmagazine.com
SUMMARY:Unsettled Futures: Recent Cuban Migrants\, Federal Immigration Policy\, and the Cuban-American Debate
DESCRIPTION:On Thu.\, April 2\, the University of Miami Cuban Heritage Collection hosts “Unsettled Futures\,” a bilingual panel examining recent Cuban migration\, shifting federal immigration policy and the evolving Cuban-American debate. Panelists from journalism\, advocacy and law will discuss how new restrictions are impacting migrants and U.S.-Cuba relations. Event presented in English and Spanish.
URL:https://coralgablesmagazine.com/event/unsettled-futures-recent-cuban-migrants-federal-immigration-policy-and-the-cuban-american-debate/
LOCATION:Roberto C. Goizueta Pavilion\, Otto G. Richter Library 1300 Memorial Drive  Coral Gables\, FL 33146
CATEGORIES:Events
ATTACH;FMTTYPE=image/jpeg:https://coralgablesmagazine.com/wp-content/uploads/2026/03/image-1.jpg
END:VEVENT
END:VCALENDAR