BEGIN:VCALENDAR
VERSION:2.0
PRODID:-//Coral Gables Magazine - ECPv6.15.20//NONSGML v1.0//EN
CALSCALE:GREGORIAN
METHOD:PUBLISH
X-ORIGINAL-URL:https://coralgablesmagazine.com
X-WR-CALDESC:Events for Coral Gables Magazine
REFRESH-INTERVAL;VALUE=DURATION:PT1H
X-Robots-Tag:noindex
X-PUBLISHED-TTL:PT1H
BEGIN:VTIMEZONE
TZID:America/Halifax
BEGIN:DAYLIGHT
TZOFFSETFROM:-0400
TZOFFSETTO:-0300
TZNAME:ADT
DTSTART:20250309T060000
END:DAYLIGHT
BEGIN:STANDARD
TZOFFSETFROM:-0300
TZOFFSETTO:-0400
TZNAME:AST
DTSTART:20251102T050000
END:STANDARD
BEGIN:DAYLIGHT
TZOFFSETFROM:-0400
TZOFFSETTO:-0300
TZNAME:ADT
DTSTART:20260308T060000
END:DAYLIGHT
BEGIN:STANDARD
TZOFFSETFROM:-0300
TZOFFSETTO:-0400
TZNAME:AST
DTSTART:20261101T050000
END:STANDARD
BEGIN:DAYLIGHT
TZOFFSETFROM:-0400
TZOFFSETTO:-0300
TZNAME:ADT
DTSTART:20270314T060000
END:DAYLIGHT
BEGIN:STANDARD
TZOFFSETFROM:-0300
TZOFFSETTO:-0400
TZNAME:AST
DTSTART:20271107T050000
END:STANDARD
END:VTIMEZONE
BEGIN:VEVENT
DTSTART;TZID=America/Halifax:20260121T160000
DTEND;TZID=America/Halifax:20260429T164500
DTSTAMP:20260421T182147
CREATED:20260221T164834Z
LAST-MODIFIED:20260221T164836Z
UID:79906-1769011200-1777481100@coralgablesmagazine.com
SUMMARY:Mindfulness Sessions Spring 2026
DESCRIPTION:Part of the University of Miami Libraries’ Mindfulness and Well-Being Programs\, Mindfulness for Inner Resilience offers free\, 45-minute online sessions designed to build focus\, calm\, and resilience through guided meditation\, mindful movement\, and reflection. \n\n\n\nSessions are led by Kelly Miller\, Certified Mindfulness Teacher and Director of Mindfulness and Well-Being Programs\, and Professor Scott Rogers\, Director of the Mindfulness in Law Program at the University of Miami School of Law. Guest teachers join select sessions. In Spring 2026\, Gisele Rocha will offer separate yoga sessions. \n\n\n\nSpring 2026 ScheduleWednesdays | 4:00–4:45 p.m. \n\n\n\n4/29 – Cultivating Daily Practice \n\n\n\n1/21 – Beginning Anew \n\n\n\n1/28 – Awareness of Breath \n\n\n\n2/4 – Awareness of Body \n\n\n\n2/11 – Awareness of Feelings \n\n\n\n2/18 – Awareness of Thought \n\n\n\n2/25 – Self-Compassion \n\n\n\n3/4 – Compassion for Others (Scott Rogers) \n\n\n\n3/11 – No Session (Spring Break) \n\n\n\n3/18 & 3/25 – Difficult Emotions \n\n\n\n4/1 – Special Session: Mindfulness and Dance (with Carol Kaminsky) \n\n\n\n4/8 – Awareness of Speech \n\n\n\n4/15 – Cultivating Gratitude \n\n\n\n4/22 – Caring for the Earth
URL:https://coralgablesmagazine.com/event/mindfulness-sessions-spring-2026-2/
LOCATION:Online Event
CATEGORIES:Events
ATTACH;FMTTYPE=image/jpeg:https://coralgablesmagazine.com/wp-content/uploads/2026/02/image-8.jpg
END:VEVENT
BEGIN:VEVENT
DTSTART;TZID=America/Halifax:20260316T180000
DTEND;TZID=America/Halifax:20260327T180000
DTSTAMP:20260421T182147
CREATED:20260313T144215Z
LAST-MODIFIED:20260313T144218Z
UID:80382-1773684000-1774634400@coralgablesmagazine.com
SUMMARY:Beyond the Surface: From Reality to Dream
DESCRIPTION:“Beyond the Surface: From Reality to Dream” explores how artists examine the boundaries between observation\, imagination\, and illusion. Moving between Realism\, Surrealism\, and Photorealism\, the exhibition presents works that reinterpret what we consider real. The pieces range from depictions of everyday life to dreamlike scenes and highly detailed paintings that resemble photography. 
URL:https://coralgablesmagazine.com/event/beyond-the-surface-from-reality-to-dream/
LOCATION:The Americas Collection\, 4213 Ponce de Leon Blvd.
CATEGORIES:Art/Museums
ATTACH;FMTTYPE=image/avif:https://coralgablesmagazine.com/wp-content/uploads/2026/03/Beyond-the-Surface-From-Reality-to-Dream-.avif
END:VEVENT
BEGIN:VEVENT
DTSTART;TZID=America/Halifax:20260326T130000
DTEND;TZID=America/Halifax:20260326T170000
DTSTAMP:20260421T182147
CREATED:20260312T203535Z
LAST-MODIFIED:20260312T203537Z
UID:80339-1774530000-1774544400@coralgablesmagazine.com
SUMMARY:Live demonstration: Alfombra de Aserrín
DESCRIPTION:The Coral Gables Museum will host a community workshop focused on the creation of an Alfombra de Aserrín\, a traditional sawdust carpet commonly made in Guatemala during religious and cultural celebrations. These temporary works of art are created using colored sawdust arranged into decorative patterns and images along streets and public spaces. \n\n\n\nDuring the program\, participants will work together to design and assemble the carpet while learning about the history\, cultural meaning\, and artistic techniques behind the tradition. The activity introduces visitors to the process used to create these detailed designs and explains how alfombras have been used for generations as part of community celebrations and cultural expression.
URL:https://coralgablesmagazine.com/event/live-demonstration-alfombra-de-aserrin/
LOCATION:Coral Gables Museum\, 285 Aragon Avenue
CATEGORIES:Art/Museums
ATTACH;FMTTYPE=image/webp:https://coralgablesmagazine.com/wp-content/uploads/2026/03/image-2-2.webp
END:VEVENT
BEGIN:VEVENT
DTSTART;TZID=America/Halifax:20260326T140000
DTEND;TZID=America/Halifax:20260326T150000
DTSTAMP:20260421T182147
CREATED:20260319T161036Z
LAST-MODIFIED:20260319T161038Z
UID:80635-1774533600-1774537200@coralgablesmagazine.com
SUMMARY:Kislak Fellows in Review: Presented by Brandon Agosto
DESCRIPTION:The University of Miami Libraries presents an online discussion on research findings from the Jay I. Kislak Collection\, featuring research fellow Brandon Agosto. The presentation will be moderated by Jay I. Kislak Chair and Curator Daniel Arbino. \n\n\n\nAgosto will share insights from his work with the collection\, focusing on Mesoamerican art and archaeology along the Gulf Coast of Veracruz. His research explores materials from the collection and how they contribute to a deeper understanding of the region’s artistic and historical development. \n\n\n\nThe program will conclude with a live Q&A session with the online audience.
URL:https://coralgablesmagazine.com/event/kislak-fellows-in-review-presented-by-brandon-agosto/
LOCATION:Online Event
CATEGORIES:Events
ATTACH;FMTTYPE=image/webp:https://coralgablesmagazine.com/wp-content/uploads/2026/03/image-2-3.webp
END:VEVENT
BEGIN:VEVENT
DTSTART;TZID=America/Halifax:20260326T173000
DTEND;TZID=America/Halifax:20260326T193000
DTSTAMP:20260421T182147
CREATED:20260313T140350Z
LAST-MODIFIED:20260313T140352Z
UID:80377-1774546200-1774553400@coralgablesmagazine.com
SUMMARY:GGG Forum on Coral Gables April 2026 Referendum Mail-In Vote
DESCRIPTION:Join the GGG Forum for an open discussion on the Referendum items to be voted on in the April 21\, 2026\, Mail-In Ballot election. Attendees will have the opportunity to share their views and learn details about the proposed eight Referendum items. \n\n\n\nAdvance Registration Required by March 25: Email – gablesgoodgov@gmail.com Website – www.gablesgoodgovernment.org \n\n\n\nParking is available in the lot in front of the church and on the Columbus Blvd side of the church.
URL:https://coralgablesmagazine.com/event/ggg-forum-on-coral-gables-april-2026-referendum-mail-in-vote/
LOCATION:Coral Gables Congregational Church\, 3010 De Soto Blvd.
CATEGORIES:Events
ATTACH;FMTTYPE=image/jpeg:https://coralgablesmagazine.com/wp-content/uploads/2026/03/0-3.jpg
END:VEVENT
BEGIN:VEVENT
DTSTART;TZID=America/Halifax:20260326T173000
DTEND;TZID=America/Halifax:20260326T193000
DTSTAMP:20260421T182147
CREATED:20260324T140653Z
LAST-MODIFIED:20260324T140657Z
UID:80702-1774546200-1774553400@coralgablesmagazine.com
SUMMARY:Music at McBride Plaza
DESCRIPTION:McBride Plaza presents a live performance by The Wire Jays as part of the Music at McBride concert series. The five piece band\, formed at the Frost School of Music\, performs a contemporary take on bluegrass\, often referred to as Newgrass\, combining traditional string instruments with original songwriting. Based in South Florida\, the group focuses on musicianship and collaborative performance\, bringing an updated approach to the genre.
URL:https://coralgablesmagazine.com/event/music-at-mcbride-plaza-4/
LOCATION:McBride Plaza\, 150 Miracle Mile
CATEGORIES:Music
ATTACH;FMTTYPE=image/jpeg:https://coralgablesmagazine.com/wp-content/uploads/2026/03/The-Wire-Jays.jpg
END:VEVENT
BEGIN:VEVENT
DTSTART;TZID=America/Halifax:20260326T180000
DTEND;TZID=America/Halifax:20260326T200000
DTSTAMP:20260421T182147
CREATED:20260324T141303Z
LAST-MODIFIED:20260324T141306Z
UID:80705-1774548000-1774555200@coralgablesmagazine.com
SUMMARY:2026 Annual Juried Student Art Exhibition Opening Reception
DESCRIPTION:Lowe Art Museum hosts the opening reception for the 2026 Annual Juried Student Art Exhibition\, featuring selected works by undergraduate and graduate students in the University of Miami’s BA\, BFA\, and MFA studio art programs. The exhibition presents a range of media and approaches\, from traditional techniques to conceptual practices\, reflecting current work across the university’s art disciplines. The reception offers an opportunity to view the exhibition and engage with the work on display.
URL:https://coralgablesmagazine.com/event/2026-annual-juried-student-art-exhibition-opening-reception/
LOCATION:Lowe Art Museum\, 1301 Stanford Drive\, Coral Gables\, FL\, 33146
CATEGORIES:Art/Museums
ATTACH;FMTTYPE=image/jpeg:https://coralgablesmagazine.com/wp-content/uploads/2026/03/7fb2942821577db835c71177e5fd834229d05ea5.jpg
END:VEVENT
BEGIN:VEVENT
DTSTART;TZID=America/Halifax:20260326T183000
DTEND;TZID=America/Halifax:20260326T183000
DTSTAMP:20260421T182147
CREATED:20260312T210838Z
LAST-MODIFIED:20260312T210839Z
UID:80362-1774549800-1774549800@coralgablesmagazine.com
SUMMARY:Annual All-Stamps Ensembles Concert
DESCRIPTION:The University of Miami Frost School of Music presents a chamber music concert featuring several student ensembles. The program includes performances by the Stamps String Quartet\, a Jazz Quintet\, a Brass Quintet\, and a Woodwind Quintet.
URL:https://coralgablesmagazine.com/event/annual-all-stamps-ensembles-concert/
LOCATION:Gusman Concert Hall\, 1280 Stanford Drive
CATEGORIES:Music
ATTACH;FMTTYPE=image/jpeg:https://coralgablesmagazine.com/wp-content/uploads/2026/03/1ef6851d91f37a05e56cd7695728ea0e806a22c0.jpg
END:VEVENT
BEGIN:VEVENT
DTSTART;TZID=America/Halifax:20260326T190000
DTEND;TZID=America/Halifax:20260326T190000
DTSTAMP:20260421T182147
CREATED:20260324T141829Z
LAST-MODIFIED:20260324T141831Z
UID:80708-1774551600-1774551600@coralgablesmagazine.com
SUMMARY:Co-Presented with MIND Institute | An Evening with Nelson Dellis
DESCRIPTION:Books & Books\, in partnership with MIND Institute\, hosts an evening with Nelson Dellis to mark the release of his new book “Everyday Genius.” Dellis\, a six time USA Memory Champion and memory coach\, discusses techniques for improving memory\, focus\, learning\, and problem solving. The book outlines practical methods for developing cognitive skills\, including memorization\, speed reading\, and mental calculation. The event is free and open to the public\, with books available for purchase on site. RSVP is required for entry\, though seating is not guaranteed.
URL:https://coralgablesmagazine.com/event/co-presented-with-mind-institute-an-evening-with-nelson-dellis/
LOCATION:Books & Books\, 265 Aragon Ave.\, Coral Gables\, FL\, 33143
ATTACH;FMTTYPE=image/png:https://coralgablesmagazine.com/wp-content/uploads/2026/03/copy-lp-specs-87.png
END:VEVENT
END:VCALENDAR