BEGIN:VCALENDAR
VERSION:2.0
PRODID:-//Coral Gables Magazine - ECPv6.15.20//NONSGML v1.0//EN
CALSCALE:GREGORIAN
METHOD:PUBLISH
X-ORIGINAL-URL:https://coralgablesmagazine.com
X-WR-CALDESC:Events for Coral Gables Magazine
REFRESH-INTERVAL;VALUE=DURATION:PT1H
X-Robots-Tag:noindex
X-PUBLISHED-TTL:PT1H
BEGIN:VTIMEZONE
TZID:America/Halifax
BEGIN:DAYLIGHT
TZOFFSETFROM:-0400
TZOFFSETTO:-0300
TZNAME:ADT
DTSTART:20250309T060000
END:DAYLIGHT
BEGIN:STANDARD
TZOFFSETFROM:-0300
TZOFFSETTO:-0400
TZNAME:AST
DTSTART:20251102T050000
END:STANDARD
BEGIN:DAYLIGHT
TZOFFSETFROM:-0400
TZOFFSETTO:-0300
TZNAME:ADT
DTSTART:20260308T060000
END:DAYLIGHT
BEGIN:STANDARD
TZOFFSETFROM:-0300
TZOFFSETTO:-0400
TZNAME:AST
DTSTART:20261101T050000
END:STANDARD
BEGIN:DAYLIGHT
TZOFFSETFROM:-0400
TZOFFSETTO:-0300
TZNAME:ADT
DTSTART:20270314T060000
END:DAYLIGHT
BEGIN:STANDARD
TZOFFSETFROM:-0300
TZOFFSETTO:-0400
TZNAME:AST
DTSTART:20271107T050000
END:STANDARD
END:VTIMEZONE
BEGIN:VEVENT
DTSTART;TZID=America/Halifax:20260121T160000
DTEND;TZID=America/Halifax:20260429T164500
DTSTAMP:20260422T024540
CREATED:20260221T164834Z
LAST-MODIFIED:20260221T164836Z
UID:79906-1769011200-1777481100@coralgablesmagazine.com
SUMMARY:Mindfulness Sessions Spring 2026
DESCRIPTION:Part of the University of Miami Libraries’ Mindfulness and Well-Being Programs\, Mindfulness for Inner Resilience offers free\, 45-minute online sessions designed to build focus\, calm\, and resilience through guided meditation\, mindful movement\, and reflection. \n\n\n\nSessions are led by Kelly Miller\, Certified Mindfulness Teacher and Director of Mindfulness and Well-Being Programs\, and Professor Scott Rogers\, Director of the Mindfulness in Law Program at the University of Miami School of Law. Guest teachers join select sessions. In Spring 2026\, Gisele Rocha will offer separate yoga sessions. \n\n\n\nSpring 2026 ScheduleWednesdays | 4:00–4:45 p.m. \n\n\n\n4/29 – Cultivating Daily Practice \n\n\n\n1/21 – Beginning Anew \n\n\n\n1/28 – Awareness of Breath \n\n\n\n2/4 – Awareness of Body \n\n\n\n2/11 – Awareness of Feelings \n\n\n\n2/18 – Awareness of Thought \n\n\n\n2/25 – Self-Compassion \n\n\n\n3/4 – Compassion for Others (Scott Rogers) \n\n\n\n3/11 – No Session (Spring Break) \n\n\n\n3/18 & 3/25 – Difficult Emotions \n\n\n\n4/1 – Special Session: Mindfulness and Dance (with Carol Kaminsky) \n\n\n\n4/8 – Awareness of Speech \n\n\n\n4/15 – Cultivating Gratitude \n\n\n\n4/22 – Caring for the Earth
URL:https://coralgablesmagazine.com/event/mindfulness-sessions-spring-2026-2/
LOCATION:Online Event
CATEGORIES:Events
ATTACH;FMTTYPE=image/jpeg:https://coralgablesmagazine.com/wp-content/uploads/2026/02/image-8.jpg
END:VEVENT
BEGIN:VEVENT
DTSTART;TZID=America/Halifax:20260311T090000
DTEND;TZID=America/Halifax:20260324T170000
DTSTAMP:20260422T024540
CREATED:20260312T204236Z
LAST-MODIFIED:20260312T204237Z
UID:80342-1773219600-1774371600@coralgablesmagazine.com
SUMMARY:Coral Gables Collects: Beanie Backus and His Imprint in South Florida Through the Allen Morris Collection
DESCRIPTION:The Coral Gables Museum presents “Coral Gables Collects: Beanie Backus and His Imprint in South Florida Through the Allen Morris Collection\,” on view from March 11 through May 24\, 2026\, in Gallery 109 and the Anthony R. Abraham Family Gallery. \n\n\n\nThe exhibition focuses on the work and influence of Florida artist Albert Ernest “Beanie” Backus (1906–1990)\, known for his paintings of Florida’s swamps\, waterways\, and wide landscapes. Though largely self taught\, Backus became an important figure in Florida’s mid twentieth century art scene and later served as a mentor to several young Black artists who would become known as the Florida Highwaymen. \n\n\n\nPart of the museum’s Coral Gables Collects series\, the exhibition highlights works from the collection of W. Allen Morris. Morris studied with Backus and maintained a family relationship with the artist for many years. The collection began with Morris’s father\, L. Allen Morris\, and was later expanded by Morris Jr. \n\n\n\nAmong the works included is a unique body cast worn by Morris after a plane accident that Backus later painted and signed with a Florida landscape. The exhibition spans several decades of Backus’s work and includes his well known Florida scenes\, religious imagery\, and paintings inspired by Oracabessa\, Jamaica\, where the artist spent extended periods capturing the island’s landscapes and local life. \n\n\n\nMembers: FreeAdults: $15Students/Seniors: $10Children (7-12): $8Children ≤ 6: FreeMilitary: Free
URL:https://coralgablesmagazine.com/event/coral-gables-collects-beanie-backus-and-his-imprint-in-south-florida-through-the-allen-morris-collection/
LOCATION:Coral Gables Museum\, 285 Aragon Avenue
CATEGORIES:Art/Museums
ATTACH;FMTTYPE=image/jpeg:https://coralgablesmagazine.com/wp-content/uploads/2026/03/BW-38.jpg
END:VEVENT
BEGIN:VEVENT
DTSTART;TZID=America/Halifax:20260316T180000
DTEND;TZID=America/Halifax:20260327T180000
DTSTAMP:20260422T024540
CREATED:20260313T144215Z
LAST-MODIFIED:20260313T144218Z
UID:80382-1773684000-1774634400@coralgablesmagazine.com
SUMMARY:Beyond the Surface: From Reality to Dream
DESCRIPTION:“Beyond the Surface: From Reality to Dream” explores how artists examine the boundaries between observation\, imagination\, and illusion. Moving between Realism\, Surrealism\, and Photorealism\, the exhibition presents works that reinterpret what we consider real. The pieces range from depictions of everyday life to dreamlike scenes and highly detailed paintings that resemble photography. 
URL:https://coralgablesmagazine.com/event/beyond-the-surface-from-reality-to-dream/
LOCATION:The Americas Collection\, 4213 Ponce de Leon Blvd.
CATEGORIES:Art/Museums
ATTACH;FMTTYPE=image/avif:https://coralgablesmagazine.com/wp-content/uploads/2026/03/Beyond-the-Surface-From-Reality-to-Dream-.avif
END:VEVENT
BEGIN:VEVENT
DTSTART;TZID=America/Halifax:20260321T110000
DTEND;TZID=America/Halifax:20260321T160000
DTSTAMP:20260422T024540
CREATED:20260312T202411Z
LAST-MODIFIED:20260312T202413Z
UID:80333-1774090800-1774108800@coralgablesmagazine.com
SUMMARY:Family Day on Aragon 
DESCRIPTION:Family Day on Aragon returns to the Coral Gables Museum with a full day of free art and cultural programming for families. Admission to the museum galleries is free during the event\, allowing visitors to explore recently opened exhibitions while participating in activities designed for children and adults. \n\n\n\nFrom 11:00 am to 1:00 pm\, TMP will lead artmaking activities. TMP is a teen-led volunteer and education initiative that engages youth in architecture\, urban design\, and visual arts while encouraging leadership and community involvement. \n\n\n\nFrom 1:00 pm to 2:00 pm\, Miami Royal Ballet & Dance will host a dance workshop and performance for children ages 6 to 12. The program is led by professional dancer and instructor Maia Duschatzky and includes a 35 to 40 minute movement workshop followed by a short performance by young dancers from Miami Royal Ballet & Dance. The session focuses on coordination\, foundational technique\, and expressive movement. RSVP is recommended. \n\n\n\nFrom 3:00 pm to 4:00 pm\, Game On: Discover Chess will introduce participants to the CGM Chess Club. The session provides an introduction to the basic rules of chess\, introductory strategies\, and guided gameplay in a supportive setting for beginners. \n\n\n\nFrom 4:00 pm to 5:00 pm\, members of the Miami Symphony Orchestra will perform a concert as part of the MISO Chamber Series. The program includes selections such as Mozart’s Eine Kleine Nachtmusik\, “La Vie en Rose\,” “Thinking Out Loud\,” “Viva la Vida\,” “I Will Always Love You\,” “Never Enough\,” “Make You Feel My Love\,” “A Thousand Years\,” “Eleanor Rigby\,” “How Deep Is Your Love\,” “St. Elmo’s Theme\,” “Billie Jean\,” and “Yesterday.” RSVP is recommended. \n\n\n\nThroughout the day\, families can participate in a scavenger hunt connected to the exhibition on Florida artist Albert Ernest “Beanie” Backus. The activity encourages visitors to explore the galleries while learning about Backus’s landscapes\, including scenes from Florida and Jamaica\, and the influence his work had on Florida’s artistic identity.
URL:https://coralgablesmagazine.com/event/family-day-on-aragon/
LOCATION:Coral Gables Museum\, 285 Aragon Avenue
CATEGORIES:Art/Museums
ATTACH;FMTTYPE=image/jpeg:https://coralgablesmagazine.com/wp-content/uploads/2026/03/family-day-.jpg
END:VEVENT
BEGIN:VEVENT
DTSTART;TZID=America/Halifax:20260321T130000
DTEND;TZID=America/Halifax:20260321T140000
DTSTAMP:20260422T024540
CREATED:20260316T185952Z
LAST-MODIFIED:20260316T185954Z
UID:80534-1774098000-1774101600@coralgablesmagazine.com
SUMMARY:Dance Workshop & Performance for Children with Miami Royal Ballet & Dance
DESCRIPTION:This special event gives children a chance to move\, create\, and enjoy the energy of live dance in a fun and welcoming setting. Led by Maia Duschatzky of Miami Royal Ballet & Dance\, it includes an engaging movement workshop and a short performance by young dancers. It’s a wonderful way for children to build confidence\, coordination\, and self-expression while simply having fun.
URL:https://coralgablesmagazine.com/event/dance-workshop-performance-for-children-with-miami-royal-ballet-dance/
LOCATION:Coral Gables Museum\, 285 Aragon Ave\, Coral Gables\, Florida\, 33134\, United States
CATEGORIES:Dance
ATTACH;FMTTYPE=image/jpeg:https://coralgablesmagazine.com/wp-content/uploads/2026/03/image-5.jpg
END:VEVENT
BEGIN:VEVENT
DTSTART;TZID=America/Halifax:20260321T141500
DTEND;TZID=America/Halifax:20260321T141500
DTSTAMP:20260422T024540
CREATED:20260313T151624Z
LAST-MODIFIED:20260313T151626Z
UID:80392-1774102500-1774102500@coralgablesmagazine.com
SUMMARY:Calle Málaga
DESCRIPTION:“Calle Málaga” follows Maria Angeles\, a 79 year old Spanish woman living alone in Tangier\, Morocco\, who enjoys a quiet daily routine. Her life changes when her daughter arrives from Madrid with plans to sell the apartment where Maria Angeles has lived for years. Determined to remain in her home\, she sets out to recover both her belongings and her independence. Along the way\, she unexpectedly reconnects with love and a renewed sense of personal freedom. “Calle Málaga” was selected as the Moroccan entry for Best International Feature Film at the 98th Academy Awards.
URL:https://coralgablesmagazine.com/event/calle-malaga/
LOCATION:Coral Gables Art Cinema\, 260 Aragon Ave.
CATEGORIES:Film
ATTACH;FMTTYPE=image/jpeg:https://coralgablesmagazine.com/wp-content/uploads/2026/03/calle-malaga-poster.jpg
END:VEVENT
BEGIN:VEVENT
DTSTART;TZID=America/Halifax:20260321T190000
DTEND;TZID=America/Halifax:20260321T223000
DTSTAMP:20260422T024540
CREATED:20260317T160354Z
LAST-MODIFIED:20260317T160356Z
UID:80569-1774119600-1774132200@coralgablesmagazine.com
SUMMARY:Caviar 101 with Antonius Caviar
DESCRIPTION:Join The Burrow for a guided caviar tasting experience featuring Antonius Caviar at The Burrow. Guests will sample four selections\, including Siberian 5 Star\, Siberian 6 Star\, Oscietra 5 Star\, and Oscietra 6 Star\, while learning about texture\, structure\, and flavor profiles\, with wine and spirits pairings included. \n\n\n\nThe tasting highlights Antonius Caviar’s production process\, with sourcing from company owned farms in Poland and direct distribution to maintain freshness and quality. \n\n\n\nTickets include the full tasting and pairings. Additional caviar tins will be available for purchase at a discounted rate. A full bar and light bites will also be available for purchase. Seating is first come\, first served.
URL:https://coralgablesmagazine.com/event/caviar-101-with-antonius-caviar/
LOCATION:The Burrow\, 94 Miracle Mile\, Florida\, 33134\, United States
CATEGORIES:Food
ATTACH;FMTTYPE=image/jpeg:https://coralgablesmagazine.com/wp-content/uploads/2026/03/dbhfk10sivsowe37hryr-e1773763364889.jpg
END:VEVENT
END:VCALENDAR