BEGIN:VCALENDAR
VERSION:2.0
PRODID:-//Coral Gables Magazine - ECPv6.15.20//NONSGML v1.0//EN
CALSCALE:GREGORIAN
METHOD:PUBLISH
X-ORIGINAL-URL:https://coralgablesmagazine.com
X-WR-CALDESC:Events for Coral Gables Magazine
REFRESH-INTERVAL;VALUE=DURATION:PT1H
X-Robots-Tag:noindex
X-PUBLISHED-TTL:PT1H
BEGIN:VTIMEZONE
TZID:America/Halifax
BEGIN:DAYLIGHT
TZOFFSETFROM:-0400
TZOFFSETTO:-0300
TZNAME:ADT
DTSTART:20250309T060000
END:DAYLIGHT
BEGIN:STANDARD
TZOFFSETFROM:-0300
TZOFFSETTO:-0400
TZNAME:AST
DTSTART:20251102T050000
END:STANDARD
BEGIN:DAYLIGHT
TZOFFSETFROM:-0400
TZOFFSETTO:-0300
TZNAME:ADT
DTSTART:20260308T060000
END:DAYLIGHT
BEGIN:STANDARD
TZOFFSETFROM:-0300
TZOFFSETTO:-0400
TZNAME:AST
DTSTART:20261101T050000
END:STANDARD
BEGIN:DAYLIGHT
TZOFFSETFROM:-0400
TZOFFSETTO:-0300
TZNAME:ADT
DTSTART:20270314T060000
END:DAYLIGHT
BEGIN:STANDARD
TZOFFSETFROM:-0300
TZOFFSETTO:-0400
TZNAME:AST
DTSTART:20271107T050000
END:STANDARD
END:VTIMEZONE
BEGIN:VEVENT
DTSTART;TZID=America/Halifax:20260121T160000
DTEND;TZID=America/Halifax:20260429T164500
DTSTAMP:20260422T055356
CREATED:20260221T164834Z
LAST-MODIFIED:20260221T164836Z
UID:79906-1769011200-1777481100@coralgablesmagazine.com
SUMMARY:Mindfulness Sessions Spring 2026
DESCRIPTION:Part of the University of Miami Libraries’ Mindfulness and Well-Being Programs\, Mindfulness for Inner Resilience offers free\, 45-minute online sessions designed to build focus\, calm\, and resilience through guided meditation\, mindful movement\, and reflection. \n\n\n\nSessions are led by Kelly Miller\, Certified Mindfulness Teacher and Director of Mindfulness and Well-Being Programs\, and Professor Scott Rogers\, Director of the Mindfulness in Law Program at the University of Miami School of Law. Guest teachers join select sessions. In Spring 2026\, Gisele Rocha will offer separate yoga sessions. \n\n\n\nSpring 2026 ScheduleWednesdays | 4:00–4:45 p.m. \n\n\n\n4/29 – Cultivating Daily Practice \n\n\n\n1/21 – Beginning Anew \n\n\n\n1/28 – Awareness of Breath \n\n\n\n2/4 – Awareness of Body \n\n\n\n2/11 – Awareness of Feelings \n\n\n\n2/18 – Awareness of Thought \n\n\n\n2/25 – Self-Compassion \n\n\n\n3/4 – Compassion for Others (Scott Rogers) \n\n\n\n3/11 – No Session (Spring Break) \n\n\n\n3/18 & 3/25 – Difficult Emotions \n\n\n\n4/1 – Special Session: Mindfulness and Dance (with Carol Kaminsky) \n\n\n\n4/8 – Awareness of Speech \n\n\n\n4/15 – Cultivating Gratitude \n\n\n\n4/22 – Caring for the Earth
URL:https://coralgablesmagazine.com/event/mindfulness-sessions-spring-2026-2/
LOCATION:Online Event
CATEGORIES:Events
ATTACH;FMTTYPE=image/jpeg:https://coralgablesmagazine.com/wp-content/uploads/2026/02/image-8.jpg
END:VEVENT
BEGIN:VEVENT
DTSTART;TZID=America/Halifax:20260311T090000
DTEND;TZID=America/Halifax:20260324T170000
DTSTAMP:20260422T055356
CREATED:20260312T204236Z
LAST-MODIFIED:20260312T204237Z
UID:80342-1773219600-1774371600@coralgablesmagazine.com
SUMMARY:Coral Gables Collects: Beanie Backus and His Imprint in South Florida Through the Allen Morris Collection
DESCRIPTION:The Coral Gables Museum presents “Coral Gables Collects: Beanie Backus and His Imprint in South Florida Through the Allen Morris Collection\,” on view from March 11 through May 24\, 2026\, in Gallery 109 and the Anthony R. Abraham Family Gallery. \n\n\n\nThe exhibition focuses on the work and influence of Florida artist Albert Ernest “Beanie” Backus (1906–1990)\, known for his paintings of Florida’s swamps\, waterways\, and wide landscapes. Though largely self taught\, Backus became an important figure in Florida’s mid twentieth century art scene and later served as a mentor to several young Black artists who would become known as the Florida Highwaymen. \n\n\n\nPart of the museum’s Coral Gables Collects series\, the exhibition highlights works from the collection of W. Allen Morris. Morris studied with Backus and maintained a family relationship with the artist for many years. The collection began with Morris’s father\, L. Allen Morris\, and was later expanded by Morris Jr. \n\n\n\nAmong the works included is a unique body cast worn by Morris after a plane accident that Backus later painted and signed with a Florida landscape. The exhibition spans several decades of Backus’s work and includes his well known Florida scenes\, religious imagery\, and paintings inspired by Oracabessa\, Jamaica\, where the artist spent extended periods capturing the island’s landscapes and local life. \n\n\n\nMembers: FreeAdults: $15Students/Seniors: $10Children (7-12): $8Children ≤ 6: FreeMilitary: Free
URL:https://coralgablesmagazine.com/event/coral-gables-collects-beanie-backus-and-his-imprint-in-south-florida-through-the-allen-morris-collection/
LOCATION:Coral Gables Museum\, 285 Aragon Avenue
CATEGORIES:Art/Museums
ATTACH;FMTTYPE=image/jpeg:https://coralgablesmagazine.com/wp-content/uploads/2026/03/BW-38.jpg
END:VEVENT
BEGIN:VEVENT
DTSTART;TZID=America/Halifax:20260316T180000
DTEND;TZID=America/Halifax:20260327T180000
DTSTAMP:20260422T055356
CREATED:20260313T144215Z
LAST-MODIFIED:20260313T144218Z
UID:80382-1773684000-1774634400@coralgablesmagazine.com
SUMMARY:Beyond the Surface: From Reality to Dream
DESCRIPTION:“Beyond the Surface: From Reality to Dream” explores how artists examine the boundaries between observation\, imagination\, and illusion. Moving between Realism\, Surrealism\, and Photorealism\, the exhibition presents works that reinterpret what we consider real. The pieces range from depictions of everyday life to dreamlike scenes and highly detailed paintings that resemble photography. 
URL:https://coralgablesmagazine.com/event/beyond-the-surface-from-reality-to-dream/
LOCATION:The Americas Collection\, 4213 Ponce de Leon Blvd.
CATEGORIES:Art/Museums
ATTACH;FMTTYPE=image/avif:https://coralgablesmagazine.com/wp-content/uploads/2026/03/Beyond-the-Surface-From-Reality-to-Dream-.avif
END:VEVENT
BEGIN:VEVENT
DTSTART;TZID=America/Halifax:20260319T073000
DTEND;TZID=America/Halifax:20260319T210000
DTSTAMP:20260422T055356
CREATED:20260317T141458Z
LAST-MODIFIED:20260317T141515Z
UID:80550-1773905400-1773954000@coralgablesmagazine.com
SUMMARY:Good Morning Coral Gables at the Biltmore Hotel
DESCRIPTION:The Coral Gables Chamber of Commerce will host its Good Morning Coral Gables Breakfast at The Biltmore Hotel. The program will feature Eric Eikenberg\, Chief Executive Officer of The Everglades Foundation\, who will speak on restoring and protecting America’s Everglades.
URL:https://coralgablesmagazine.com/event/good-morning-coral-gables-at-the-biltmore-hotel-2/
LOCATION:The Biltmore Hotel\, 1200 Anastasia Ave.
ATTACH;FMTTYPE=image/jpeg:https://coralgablesmagazine.com/wp-content/uploads/2026/03/tmp_12863_3-5-2026_73916_-scaled.jpg
END:VEVENT
BEGIN:VEVENT
DTSTART;TZID=America/Halifax:20260319T170000
DTEND;TZID=America/Halifax:20260319T170000
DTSTAMP:20260422T055356
CREATED:20260317T142112Z
LAST-MODIFIED:20260317T142114Z
UID:80557-1773939600-1773939600@coralgablesmagazine.com
SUMMARY:Coral Gables Biz After Hours & Watch Party!
DESCRIPTION:College basketball’s biggest tournament is here. Watch afternoon and evening games while networking with realtors\, with complimentary light bites and tournament drink specials available. Guests can fill out a bracket ahead of time\, with prizes awarded for the best first night predictions and the top overall bracket.
URL:https://coralgablesmagazine.com/event/coral-gables-biz-after-hours-watch-party/
LOCATION:John Martin’s\, 253 Miracle Mile\, Coral Gables\, Florida\, 33134\, United States
CATEGORIES:Events,Food
ATTACH;FMTTYPE=image/jpeg:https://coralgablesmagazine.com/wp-content/uploads/2026/03/Biz-After-Hours-and-Watch-Party-WEB-1.jpg
END:VEVENT
BEGIN:VEVENT
DTSTART;TZID=America/Halifax:20260319T190000
DTEND;TZID=America/Halifax:20260319T210000
DTSTAMP:20260422T055356
CREATED:20260302T220254Z
LAST-MODIFIED:20260316T174500Z
UID:80088-1773946800-1773954000@coralgablesmagazine.com
SUMMARY:Fernet Social Club 
DESCRIPTION:Graziano’s Coral Gables presents Fernet Social Club\, an evening of music and connection featuring DJ Yung Algebra. From 7–9 pm\, guests are invited to enjoy curated sounds\, specialty cocktails\, and a relaxed networking atmosphere designed to bring the community together
URL:https://coralgablesmagazine.com/event/fernet-social-club/
LOCATION:Graziano’s Market Coral Gables\, 2301 Galiano St.
CATEGORIES:Food,Music
ATTACH;FMTTYPE=image/png:https://coralgablesmagazine.com/wp-content/uploads/2026/03/0-1.png
END:VEVENT
BEGIN:VEVENT
DTSTART;TZID=America/Halifax:20260319T190000
DTEND;TZID=America/Halifax:20260319T220000
DTSTAMP:20260422T055356
CREATED:20260313T163635Z
LAST-MODIFIED:20260313T163638Z
UID:80449-1773946800-1773957600@coralgablesmagazine.com
SUMMARY:Rhythm & Canvas - A Jazz & Art Showcase
DESCRIPTION:Attend an evening of live jazz and local art at the Coral Gables Woman’s Club. The event brings together performances by local jazz musicians alongside a curated display of artwork by artists from the South Florida community. Guests can explore the gallery while listening to live music and meeting some of the participating artists. The event is presented by the Coral Gables Woman’s Club in partnership with Her Art Hive Inc. Each ticket includes two drink tickets\, and charcuterie will be available for purchase. Proceeds from the event support community initiatives organized by the Coral Gables Woman’s Club.
URL:https://coralgablesmagazine.com/event/rhythm-canvas-a-jazz-art-showcase/
LOCATION:Coral Gables Woman’s Club\, 1009 East Ponce de Leon Blvd.
CATEGORIES:Music
ATTACH;FMTTYPE=image/webp:https://coralgablesmagazine.com/wp-content/uploads/2026/03/image-8.webp
END:VEVENT
BEGIN:VEVENT
DTSTART;TZID=America/Halifax:20260319T193000
DTEND;TZID=America/Halifax:20260319T193000
DTSTAMP:20260422T055356
CREATED:20260313T163124Z
LAST-MODIFIED:20260313T163126Z
UID:80444-1773948600-1773948600@coralgablesmagazine.com
SUMMARY:The Last Hundred - Season 2025-2026
DESCRIPTION:Attend Homage to Franco Donatoni\, a concert featuring music by Italian composer Franco Donatoni and several of his former students including Cori\, Landuzzi\, Lindberg\, Rasgado\, and Scannavini. The program reflects Donatoni’s influence on contemporary music and the composers who studied under him. The performance will be presented by The Last Hundred Ensemble under the direction of conductor Juan Trigos. Featured performers include soprano Daniela D’Ingiullo with an ensemble of flute\, clarinet\, percussion\, guitar\, piano\, violin\, and cello. 
URL:https://coralgablesmagazine.com/event/the-last-hundred-season-2025-2026/
LOCATION:St. Bede Episcopal Church\, 1150 Stanford Drive\, Coral Gables\, Florida\, 33146\, United States
CATEGORIES:Music
ATTACH;FMTTYPE=image/png:https://coralgablesmagazine.com/wp-content/uploads/2026/03/The-Last-Hundred-2025-2026.png
END:VEVENT
BEGIN:VEVENT
DTSTART;TZID=America/Halifax:20260319T200000
DTEND;TZID=America/Halifax:20260319T200000
DTSTAMP:20260422T055356
CREATED:20260313T152717Z
LAST-MODIFIED:20260313T152719Z
UID:80400-1773950400-1773950400@coralgablesmagazine.com
SUMMARY:Tender Mercies
DESCRIPTION:Attend a one time only screening honoring actor Robert Duvall. The film follows Mac\, a struggling country singer who arrives in a small Texas town and forms a connection with a young widow. As their relationship develops\, Mac’s past resurfaces when his former wife\, a successful country music star\, arrives with his estranged daughter. The story examines family relationships\, personal setbacks\, and the possibility of rebuilding one’s life.
URL:https://coralgablesmagazine.com/event/tender-mercies/
LOCATION:Coral Gables Art Cinema\, 260 Aragon Ave.
CATEGORIES:Film
ATTACH;FMTTYPE=image/jpeg:https://coralgablesmagazine.com/wp-content/uploads/2026/03/tender-mercies-poster.jpg
END:VEVENT
END:VCALENDAR